Workbook
Name CustomerServices: 'Form 023 Participant Detail'!$B$20:$AW$819
Name EndDate: [1]ADD_FCC2!$S$3:$S$10
Name EndDate: ADD_FCC2!$T$3:$T$7
Name Event1X12: #REF!
Name Event1X12: #REF!
Name LWIANames: '[2]Overview - Form 001'!$CB$1:$CB$29
Name LWIANames: '[3]Overview - Form 001'!$CB$1:$CB$29
Name StartDate: [1]ADD_FCC2!$I$4:$I$9
Name StartDate: ADD_FCC2!$J$4:$J$6
Name StartDate2: #REF!
Name StartDate2: ADD_FCC2!$J$3:$J$6
Name ValidApplicantName: [4]ADD_FCC2!$A$2:$A$31
Name ValidDepts: '[1]Scope of Work drop down'!$B$3:$B$7
Name ValidDepts: 'Scope of Work drop down'!$B$3:$B$7
Name ValidEDR: #REF!
Name ValidEDR: '[5]Data Sheet'!$B$1:$B$11
Name ValidEDRs: '[4]Form 020 Overview'!#REF!
Name ValidEDRs: '[5]Form 020 Overview'!#REF!
Name validenddate: #REF!
Name validenddate: ADD_FCC2!$T$2:$T$7
Name validgrant: '[5]Data Sheet'!$D$1:$D$28
Name validgrant: #REF!
Name validgrant: '[6]Data Sheet'!$D$1:$D$28
Name validgrantee: #REF!
Name validgrantee: ADD_FCC2!$A$1:$A$25
Name validgrantee1: [1]ADD_FCC2!#REF!
Name validgrantee1: ADD_FCC2!#REF!
Name validgrantee2: [1]ADD_FCC2!$A$2:$A$31
Name validgrantee2: ADD_FCC2!$A$2:$A$25
Name validgrantrecipient: #REF!
Name ValidGrantRecipient: '[7]Overview - Form 001'!$CB$1:$CB$28
Name ValidLWIA: '[5]Data Sheet'!$B$1:$B$27
Name ValidLWIA: #REF!
Name ValidLWIA: '[8]Data Sheet'!$B$1:$B$27
Name ValidMod: '[5]Data Sheet'!$B$1:$B$13
Name ValidMod: #REF!
Name validmod: ADD_FCC2!$I$1:$I$5
Name ValidModifications: [4]ADD_FCC2!$K$13:$K$25
Name validmodifications: ADD_FCC2!$K$10:$K$20
Name validNumbers: '[9]Data Sheet'!$B$1:$B$27
Name ValidScopeOfWork: '[4]Scope of Work drop down'!$B$3:$B$7
Name validstartdate: #REF!
Name validstartdate: ADD_FCC2!$J$2:$J$6
Name validstartdate2: #REF!
Name validstartdate2: [10]ADD_FCC2!$G$2:$G$10

Sheet Scope of Work drop down
B2: Scope of work short description | D2: Scope of work full description | E2: Tasks 1 | F2: 2 | G2: 3 | H2: 4 | I2: 5 | J2: 6 | K2: 7 | L2: 8 | M2: 9 | N2: 10
B3: Select from one of the Descriptions from the Drop-Down List
B4: 1E | C4: To provide training services to participants at dislocated events | D4: To provide funding for the purpose of carrying out the activities authorized under the Workforce Investment Act of 1998, Section 134 and Workforce Investment Act Final Rule, 20 CFR Part 660 et al. The Workforce Investment Act makes the state responsible for the provision of Rapid Response Activites (Section 134 (a)(2)). These activities are to be carried out in Local Workforce Investment Areas (LWIA's) experiencing mass layoffs, closings, disasters, or other events that increase the demand for services beyond what they can meet with available formula funds. The WIA program provides several benefits and services to rapid response eligible workers. These include job retraining, core and intensive services, support services, and rapid response activities. The Scope of Work for this grant shall be in accordance with the provisions contained in the approved WIA Dislocated Worker grant application and subsequent revisions as approved by, and on file in, this Department and the grantee. | E4: If needed, provide benefits and services to rapid response eligible workers. | F4: If needed, provide job retraining. | G4: If needed, provide core and intensive services. | H4: If needed, provide support services. | I4: If needed, provide rapid response activities.
B5: 1E - Trade Case Mgmt. | C5: To provide case management services to participants at dislocated events | D5: To provide funding for the purpose of carrying out the Case Management activities authorized under Section 134 of the Workforce Investment Act for eligible participants receiving services under the Trade Adjustment Assistance (TAA) Act program authorized under Subpart B, C, D, E, F, and G of Chapter 2 of Title II of the Trade Act of 1974, as amended by the Trade Adjustment Assistance Reform Act of 2002 (Pub. L. 107-210), the North American Free Trade Implementation Act and the implementing regulations at 20 CFR 617. Case Management is the provision of a client-center approach in the delivery of TAA services and activities may include the establishment and maintenance of program eligibility, the preparation of a comprehensive employment plan, waiver maintenance, providing job and career counseling during program participation and after job placement, providing labor market information, providing training guidance, placement assistance and tracking training progress, and providing out of area job search assistance and relocation assistance. The Scope of Work for this grant shall be in accordance with the provisions contained in the approved WIA Dislocated Worker Case Management grant application and subsequent revisions as approved by, and on file in, this Department and the grantee. | E5: If needed, provide establishment and maintenance of program eligibility. | F5: If needed, provide preparation of a comprehensive employment plan. | G5: If needed, provide waiver maintenance. | H5: If needed, provide job and career counseling during program participation and after job placement. | I5: If needed, provide labor market information. | J5: If needed, provide training guidance. | K5: If needed, provide placement assistance. | L5: If needed, provide tracking training progress. | M5: If needed, provide out of area job search assistance and relocation assistance.
B6: TAA-NEG | C6: Funding used for the continuation of wrap-around services for the eligible participants that are not available through the trade program and where State formula dislocated worker programs funds are not sufficient to provide such services. | D6: To provide funding for the purpose of carrying out the Case Management activities and supportive services authorized under Section 134 of the Workforce Investment Act for eligible participants receiving services under the Trade Adjustment Assistance (TAA) Act program authorized under Subpart B, C, D, E, F, and G of Chapter 2 of Title II of the Trade Act of 1974, as amended by the Trade Adjustment Assistance Reform Act of 2002 (Pub. L. 107-210), the North American Free Trade Implementation Act and the implementing regulations at 20 CFR 617. Case management is the provision of a client-centered approach in the delivery of TAA services and activities may include, the establishment and maintenance of program eligibility, the preparation of a comprehensive employment plan, waiver maintenance, providing job and career counseling during program participation and after job placement, providing labor market information, providing training guidance, placement assistance and tracking training progress, and providing out of area job search assistance and relocation assistance. Any such activites are to be in accordance with Training and Employment Guidance Letter 16-03, National Emergency Grant (NEG) Policy Guidance and WIA Policy Letter 08-PL-47, National Emergency Grants - Dual Enrollment Funding issued by DCEO. The Scope of Work for this grant shall be in accordance with the provisions contained in the approved WIA Dislocated Worker Case Management grant application and subsequent revisions as approved by, and on file in, this Department and the grantee. | E6: If needed, provide establishment and maintenance of program eligibility. | F6: If needed, provide preparation of a comprehensive employment plan. | G6: If needed, provide waiver maintenance. | H6: If needed, provide job and career counseling during program participation and after job placement. | I6: If needed, provide labor market information. | J6: If needed, provide training guidance. | K6: If needed, provide placement assistance. | L6: If needed, provide tracking training progress. | M6: If needed, provide out of area job search assistance and relocation assistance.

Sheet ADD_FCC2
A1: Applicant Name | B1: FEIN | C1: Region No (EDR) | D1: LWIA | E1: County | F1: Grantee Name | G1: NAICS CODE | H1: DUNS | J1: Start Date | K1: Quarter 4 | L1: Quarter 1 | M1: Quarter 2 | N1: Quarter 3 | O1: Quarter 4 | P1: Quarter 1 | Q1: Quarter 2 | R1: Quarter 3 | S1: Quarter 4 | T1: End Date
A2: Select the appropriate Grantee Name from the Drop-Down List | J2: Select from drop down | T2: Select from drop down
A3: Business Employment Skills Team, Inc. | B3: 363297621 | C3: 6 - Northwest | D3: 04 | E3: LaSalle | F3: Business Employment Skills Team, Inc. | G3: 561311, 561320, 624190 | H3: 102495954 | J3: 39995 | K3: 39995 | L3: 40087 | M3: 40179 | N3: 40269 | O3: 40360 | P3: 40452 | Q3: 40544 | R3: 40634 | S3: 40725 | T3: 39994
A4: Champaign County | B4: 376006910 | C4: 2 - East Central | D4: 17 | E4: Champaign | F4: Champaign County Regional Planning Commission | G4: 624310 | H4: 077322861 | J4: 39995 | K4: 39995 | L4: 40087 | M4: 40179 | N4: 40269 | O4: 40360 | P4: 40452 | Q4: 40544 | R4: 40634 | S4: 40725 | T4: 40359
A5: City of Rockford | B5: 366006082 | C5: 5 - Northern Stateline | D5: 03 | E5: Winnebago | F5: Rock River Training Corporation | G5: 921190 | H5: 100821987 | J5: 41091 | K5: 41091 | L5: 41183 | M5: 41275 | N5: 41365 | O5: 41456 | P5: 41548 | Q5: 41640 | R5: 41730 | S5: 41821 | T5: 41455
A6: County of Kankakee | B6: 366006594 | C6: 4 - Northeast | D6: 11 | E6: Kankakee | F6: Grundy Livingston Kankakee Workforce Board | G6: 921130, 921190, 922120, 922130, 926110, 926150 | H6: 75621631 | J6: 41821 | K6: 41821 | L6: 41913 | M6: 42005 | N6: 42095 | O6: 42186 | P6: 42278 | Q6: 42370 | R6: 42461 | S6: 42552 | T6: 42185
A7: County of McHenry Illinois | B7: 366006623 | C7: 4 - Northeast | D7: 02 | E7: McHenry | F7: McHenry County Workforce Network | G7: 624310 | H7: 82044694 | T7: 42551
A8: County of Rock Island | B8: 366006649 | C8: 6 - Northwest | D8: 13 | E8: Rock Island | F8: Rock Island Tri-County Consortium | G8: 623110, 921110, 921120, 922110 | H8: 79130928
A9: County of Will | B9: 366006672 | C9: 4 - Northeast | D9: 10 | E9: Will | F9: Will County Workforce Investment Board | G9: 921130 | H9: 20035838 | K9: Modifications
A10: Danville Area Community College | B10: 370889813 | C10: 2 - East Central | D10: 18 | E10: Vermilion | F10: Vermilion County Job Training Partnership | G10: 611210, 611310, 611420, 611430 | H10: 71427314
A11: DuPage County Department of | B11: 366006551 | C11: 4 - Northeast | D11: 06 | E11: DuPage | F11: DuPage County Department of Economic Development and Planning | G11: 921110 | H11: 135836026 | K11: 1
A12: Illinois Eastern Community Colleges District 529 | B12: 370906196 | C12: 7 - Southeastern | D12: 23 | E12: Coles | F12: Illinois Eastern Community College | G12: 611210 | H12: 71988737 | K12: 3
A13: Kane County | B13: 366006585 | C13: 4 - Northeast | D13: 05 | E13: Kane | F13: Kane County Department of Employment and Education | G13: 921110 | H13: 790448828 | K13: 4
A14: Lake County | B14: 366006600 | C14: 4 - Northeast | D14: 01 | E14: Lake | F14: Lake County Workforce Development Department | G14: 221310, 237310, 237990, 515120, 515210, 54110, 541120, 541199, 541214, 541330, 541350, 541370, 541513, 561110, 561210, 621111, 621112, 621210, 621320, 621410, 621999, 623110, 623311, 623312, 624110, 624120, 624190, 624229, 624230, 921130, 921140, 922110, 922120, 922130, 922140, 922150, 922190, 923110, 923120, 923130, 923140, 924110, 925110, 925120 | H14: 74591652 | K14: 5
A15: Macon County | B15: 376001309 | C15: 1 - Central | D15: 19 | E15: Macon | F15: Workforce Investment Solutions | G15: 921190 | H15: 102485211 | K15: 6
A16: Madison County | B16: 376001410 | C16: 9 - Southwestern | D16: 22 | E16: Madison | F16: Madison County Employment and Training Department | G16: 921120, 923110, 925120 | H16: 40140154 | K16: 7
A17: Management Training & Consulting Corp. | B17: 371072273 | C17: 8 - Southern | D17: 25 | E17: Williamson | F17: MAN-TRA-CON Corp., One Stop Business and Employment Center | G17: 624310 | H17: 122565724 | K17: 8
A18: Chicago Cook Workforce Partnership | B18: 364122225 | C18: 4 - Northeast | D18: 07 | E18: Cook | F18: Chicago Cook Workforce Partnership | G18: 936110 | H18: 146918334 | K18: 9
A19: National Able Network Inc. - LWIA 27 | B19: 237339397 | C19: 4 - Northeast | D19: 27 | E19: Cook | F19: National Able Network - 27 | G19: 921190, 923130 | H19: 156315103 | K19: 11
A20: Sangamon County | B20: 376002039 | C20: 1 - Central | D20: 20 | E20: Sangamon | F20: Land of Lincoln Workforce Alliance | G20: 921120 | H20: 54218524 | K20: 12
A21: Southern 14 Workforce Investment Board | B21: 371139700 | C21: 8 - Southern | D21: 26 | E21: White | F21: Southern 14 Workforce Investment Board, Inc. | G21: 561110, 561990 | H21: 176373710
A22: St. Clair County | B22: 376001924 | C22: 9 - Southwestern | D22: 24 | E22: St. Clair | F22: St. Clair County Intergovernmental Grants Department | G22: 925120 | H22: 115675738
A23: United Workforce Development Board | B23: 371139631 | C23: 3 - North Central | D23: 15 | E23: McLean | F23: Career Link | G23: 624310 | H23: 122566011
A24: West Central Development Council, Inc | B24: 371002104 | C24: 1 - Central | D24: 21 | E24: Macoupin | F24: West Central Development Council, Inc. | G24: 237110, 611710 | H24: 621538792
A25: Western Illinois Works | B25: 204586628 | C25: 10 - West Central | D25: 14 | E25: Knox | F25: Workforce Investment Office of Western Illinois | G25: 624310 | H25: 800202108

Sheet Instructions
A1: Dislocated Worker Emergency 1E Assistance Application
A2: These instructions provide guidance in the completion of an Initial Application or subsequent Modification requested under the Dislocated Worker Emergency (1E) Assistance Application Instructions Grant program.
A3: When reviewing these instructions, please note that all “Action” requirements are highlighted in BOLD and underlined text to assist you in determining where data input or selection check-boxes are required to be made. Notes of clarifying information are bolded and found at the end of select instructions. Maneuvering through the forms can be done by hitting “Enter” after information has been entered, by using the “Tab” key to move to the next cell to the right, or by using the “Arrow Keys” to move up, down, left, or right to a desired cell. “Check-box” selections require the use of the mouse to select/deselect the proper response. Only those cells that require information are available to the user. Automatically calculated/transferred data cells are indicated in the instructions by "Automatic Entry" with a description of the data that will occupy this cell.
A4: A cover letter is required when submitting an initial application or funding modification. Include the following information:
B5: 1) The amount of the funding requested and if the application is a modification, the amount of the increase/decrease;
B6: 2) A brief explanation of the need for funds;
B7: 3) A list of the events that are included in the application;
B8: 4) A list of the Companies that are included in a "Disaster" event, if applicable;
B9: 5) An attestation by the Chief Elected Official's (CEOs) as indication they agree to the information included in the application; and
B10: 6) The CEO's (or designee's) signature approving the request.
A12: An Initial Application is required to have a Uniform Application for State Assistance form completed and submitted with the application request. The Uniform Application for State Assistance form is only required on the Initital Application and may be located as an attachment to the 1E Policy.
A13: Each submission, whether it be the Initial Application or subsequent Modification Request must be completed as a new Microsoft Excel file with its own unique file name (i.e., LWIA 1 – 2010 Initial Application, LWIA 1 – 2010 Modification 1, LWIA 1 – 2010 Modification 2, etc.).
A15: Overview Form
A16: (DCEO/OET/1E Form #020)
A17: The purpose of the Overview form is to provide the Office of Employment and Training (OET) with information on Dislocated Worker Emergency (1E) Assistance.
A18: Applicant Information
A19: Grant Number | B19: ENTER - The Grant Number is provided by OET upon completion and submission. Complete the entire application form and submit it electronically to OET. Once received and reviewed by OET, a Grant Number will be provided to the Grant Recipient. Enter this Grant Number on the Overview. The same Grant Number will be used for all subsequent Modification Requests.
A20: Submittal Date | B20: ENTER - The date the applicant is submitting this proposal.
A21: Request Type | B21: CHECK - The appropriate box to indicate the Type of Request of this submission: "Initial Application" if this is the first funding request for this Grant Recipient; "Funding Modification" if the submission is a modification of the initial application in which additional funds are being requested; or "No Cost Modification" to indicate the submission is a "No Cost" modification in which additions or changes to existing events are being made, but no additional funding is being requested.
A22: Mod Request # | B22: SELECT - The sequential Modification Request Number from the drop-down menu to indicate the corresponding number of modifications that have been submitted for this grant. A Modification Request # should be used for both "Funding Modification" and "No Cost Modification" requests.
A23: Grant Period | B23: ENTER - Enter the start date and end date for the Project.
A24: Total Grant Funds | B24: ENTER - This is the amount of funds being requested in this Initial Application or Funding Modification.
A25: Grant Recipient | B25: ENTER - The Local Workforce Investment Area (LWIA) applying for the grant or other eligible applicant.
A26: Number To Be Served | B26: AUTOMATIC ENTRY - This is an automatic entry, populated when the Numbers to Be Served field is completed.
A27: LWIA # | B27: ENTER - This is the number assigned to the local workforce investment area (LWIA) designated by the Governor per WIA TAIL No. 99-2, 1 through 26. (National ABLE Network will enter number 27.)
A28: FEIN # | B28: ENTER - This is the Grant Recipient’s Federal Employer/Tax Identification Number (FEIN). An application will not be accepted and an award cannot be made without this number.
A29: Preparer's Name | B29: ENTER - The Preparer's of the application's name.
A30: Phone Number | B30: ENTER - The Preparer's telephone number.
A31: Email | B31: ENTER - The Preparer's email address.
A33: Event Information
A34: New Event | B34: CHECK - The "New Event" box to indicate that the event listed is new to this grant. (Note: For the Initial Application, ALL events will be New. For subsequent Modifications, only those events that have not been previously listed on the Initial Application or a prior Modification will be checked as New.)
A35: Disaster Event | B35: CHECK - The "Disaster Event" box to indicate this event is part of a natural disaster eligible event. A disaster event includes any natural catastrophe or regardless of cause, any fire, flood, or explosion, in any LWIA which causes damage of sufficient severity and magnitude to warrant assistance beyond what regular formula funds can support.
A36: Veterans Event | B36: CHECK - The "Veterans Event" box to indicate this event is part of a project of 20 or more recently separated veterans. Recently terminated is defined as those veterans separated since September 11, 2001. In accordance with TEGL 22-04, all veterans who have not received a dishonorable discharge are to be considered as having been terminated from the military upon their dismissal, thus making them eligible as dislocated workers, so long as they meet ALL other dislocated worker eligibility criteria.
A37: Statewide Event | B37: CHECK - The "Statewide Event" box to indicate this event is part of a statewide eligible event. A statewide eligible event must be a single company with 200 or more workers affected at multiple locations in a single LWIA or multiple LWIAs. ALL Statewide eligible events must be approved by OET in order to be considered eligible.
A38: Company Name | B38: ENTER - The name of the company associated with this event. If applying for Trade Case Management or Supportive Services list the Petition Number after the Company Name. Trade Case Management funding Petition Numbers 98,000 and above are eligible for 1E funding. NOTE: For the Disaster Event line item, ENTER the number of companies affected by the disaster for which participants are being included in this request. Also, include a list of these companies in the cover letter to the application or modification request.
A39: City | B39: ENTER - The City in which the event/company is located.
A40: Number Served | B40: ENTER - The number of individuals to be served by this dislocation event. This number must correspond to the number of individuals that will receive a service and should correspond to what is entered into IWDS and on the Participant Detail Form.
A41: Funding Amount | B41: ENTER - The total funding amount being requested for this event. This should include all funding needed for Training and Supportive Services. It should NOT include funding for case management.
A42: # of Events | B42: AUTOMATIC ENTRY - This automatically calculates the number of events that are listed on the Overview and the Overview Attachment and provides a Total number of events for the application or modification. The Overview Attachment will accept up to thirty (30) events.
A43: Subtotal Attachment | B43: AUTOMATIC ENTRY - This is the subtotal number of participants served and amount of funding from the Overview Attachment. The Overview sheet will accept up to ten (10) events. If the application includes more than ten (10) events, please utilize the Overview Attachment to document the additional events.
...

Sheet Form 020 Overview
A2: Please provide the following information about the applicant:
A3: Grant Number: | T3: (provided by DCEO at initial application) | AZ3: Date: | BI3: / | BL3: /
A4: Request Type: | L4: Initial Application | Z4: Funding Modification | AP4: No Cost Modification | BD4: Mod Request #: | BZ4: Career Link
A5: Grant Period: | I5: Start Date: | Q5: / | T5: / | Z5: End Date: | AH5: / | AK5: / | AP5: Total Grant Funds: | BZ5: Champaign Consortium
BZ6: City of Peoria Workforce Development Department
A7: Grant Recipient: | AW7: Number to be Served: | BJ7: =SUM(BA14:BG24) -> 0 | BZ7: Crossroads Workforce Investment Board
A8: LWIA #: | J8: FEIN#: | AK8: Preparer's Name: | BZ8: Cook County President's Office of Employment & Training
BZ9: DuPage County Workforce Development Division
A10: Phone Number: | N10: ) | R10: - | X10: Ext.: | AH10: Email: | BZ10: Grundy Livingston Kankakee Workforce Board
BZ11: Kane County Department of Employment and Education
A12: List below the events being submitted for consideration. Check ALL appropriate boxes next to an event as necessary. (continue on the overview attachment for additional events). | BZ12: Lake County Workforce Development Department
A13: New | D13: Type of Event | T13: Company Name//Cost Line Item Detail | AQ13: City | BA13: Number to be Served | BH13: Funding Amount
K14: Number of Companies included (list all Names in cover letter): | BZ14: Madison County Employment and Training Department
K15: If applying for Trade Case Management or Supportive Service funding in support of Trade Events, please list the Petition Number along with the Company Name. Trade Case Management services funding provided only for Petition Numbers 98,000 and above. | BZ15: MAN-TRA-CON Corp., One Stop Business and Employment Center
F16: Disaster
F17: Veterans | BZ17: Mayor's Office of Workforce Development
F18: Statewide | BZ18: McHenry County Workforce Network
F19: Statewide | BZ19: National Able Network - 7
F20: Statewide | BZ20: National Able Network - 9
F21: Statewide | BZ21: North and Northwest Cook County
F22: Statewide | BZ22: Partners for Employment
F23: Statewide | BZ23: Rock Island Tri-County Consortium
A24: # of Events: | H24: This Page: | N24: =COUNTA(K14:K15,K16:S23) -> 2 | Q24: From Attachment: | Z24: ='Form 020 Overview Attachment'!T9 -> 0 | AC24: Total: | AG24: =SUM(N24,Z24) -> 2 | AJ24: Subtotal from Attachment: | BA24: ='Form 020 Overview Attachment'!BA9 -> 0 | BH24: ='Form 020 Overview Attachment'!BH9 -> 0
A25: If this is a Modification Request for additional funding, complete the following: | BZ25: Southern 14 Workforce Investment Board, Inc.
B26: Amount Requested in Initial Application: | Z26: 0 | AK26: Amount Awarded: | BA26: 0 | BZ26: St. Clair County Intergovernmental Grants Department
B27: Mod # | F27: Amount Requested | O27: Amount Awarded | X27: Mod # | AB27: Amount Requested | AK27: Amount Awarded | AT27: Mod # | AX27: Amount Requested | BG27: Amount Awarded | BZ27: Vermillion County Job Training Partnership
F28: 0 | O28: 0 | AB28: 0 | AK28: 0 | AX28: 0 | BG28: 0 | BZ28: West Central Development Council, Inc.
A29: The following documents marked with an "X" are included in this application/modification: | BZ29: Will County Workforce Investment Board
D30: Caseload Summary Report | AA30: 1E Carry-Over Report | BZ30: Workforce Investment Office of Western Illinois
A31: Grant Recipient Authorization
BG32: / | BJ32: /
A33: Typewritten Name & Title | AC33: Signature | BE33: Date
A35: DCEO Authorization:
BG36: / | BJ36: /
A37: Typewritten Name | AC37: Signature | BE37: Date

Sheet Form 020 Overview Attachment
A2: Please provide the following information about the applicant:
A3: Grant Number: | K3: ='Form 020 Overview'!K3 -> 0 | T3: (provided by DCEO at initial application) | AZ3: Date: | BG3: ='Form 020 Overview'!BG3 -> 0 | BI3: / | BJ3: ='Form 020 Overview'!BJ3 -> 0 | BL3: / | BM3: ='Form 020 Overview'!BM3 -> 0
A4: Grant Period: | J4: Start Date: | Q4: ='Form 020 Overview'!O5 -> 0 | S4: / | T4: ='Form 020 Overview'!R5 -> 0 | V4: / | W4: ='Form 020 Overview'!U5 -> 0 | AB4: End Date: | AI4: ='Form 020 Overview'!AF5 -> 0 | AK4: / | AL4: ='Form 020 Overview'!AI5 -> 0 | AN4: / | AO4: ='Form 020 Overview'!AL5 -> 0 | CA4: Champaign Consortium
A5: Grant Recipient: | K5: ='Form 020 Overview'!K7 -> 0 | BE5: ='Form 020 Overview'!AD8 -> 0 | CA5: Crossroads Workforce Investment Board
A6: LWIA #: | F6: ='Form 020 Overview'!F8 -> 0 | CA6: Cook County President's Office of Employment & Training
CA7: Kane County Department of Employment and Education
A8: List below the events being submitted for consideration and Check the box next to any event that has not been included in a previous application or modification (continue on a separate sheet for additional events). | CA8: Lake County Workforce Development Department
A9: # of Events from Attached Sheet: | T9: =COUNTA(K11:S40) -> 0 | AA9: Subtotal # Served and Funding from Attached Sheet: | BA9: =SUM(BA11:BG40) -> 0 | BH9: =SUM(BH11:BP40) -> 0
A10: New | D10: Type of Event | K10: Company Name (Petition Number, if applicable) | AQ10: City | BA10: Number to be Served | BH10: Funding Amount | CA10: Land of Lincoln Consortium
F11: Statewide | CA11: Madison County Employment and Training Department
F12: Statewide | CA12: MAN-TRA-CON Corp., One Stop Business and Employment Center
F13: Statewide
F14: Statewide
F15: Statewide
F16: Statewide
F17: Statewide
F18: Statewide
F19: Statewide
F20: Statewide
F21: Statewide
F22: Statewide
F23: Statewide
F24: Statewide
... F40: Statewide

Sheet Form 023 Participant Detail
B2: Complete this Participant Detail form for each initial application and modification.
B3: 1E Grant Number: | N3: ='Form 020 Overview'!K3 -> 0 | Y3: Preparer's Name: | AJ3: ='Form 020 Overview'!AV8 -> 0 | BY3: Date: | CD3: ='Form 020 Overview'!BG3 -> 0 | CF3: / | CG3: ='Form 020 Overview'!BJ3 -> 0 | CI3: / | CJ3: ='Form 020 Overview'!BM3 -> 0
B4: Grant Recipient: | M4: ='Form 020 Overview Attachment'!K5 -> 0 | BF4: LWIA: | BJ4: ='Form 020 Overview'!F8 -> 0 | BU4: ='Form 020 Overview'!J8 -> FEIN#:
BZ10: =ROUNDUP(AG10/75,0)-AG9 -> 0
B14: Participant Name (If Trade Supportive Services list Petition Number after Participant Name) | S14: Disaster Event | U14: Veterans Event | W14: 1E Training | AO14: 1E Supportive Services | BA14: Funds Needed this Grant | CE14: Total Grant Expenditures
BA15: Prior Period
W16: Is the Training on an ITA? | Z16: Type | AO16: Transportation | AR16: Child Care | AU16: Needs Related Payments | AX16: Other | BA16: Training | BF16: 1E Supportive Services | BK16: Training | BU16: 1E Supportive Services
Z17: Academic | AC17: Remedial | AF17: Voc./Occ. | AI17: OJT/EBT | AL17: Customized
S19: =SUM(S20:T819) -> 0 | U19: =SUM(U20:V819) -> 0 | W19: =SUM(W20:Y819) -> 0 | Z19: =SUM(Z20:AB819) -> 0 | AC19: =SUM(AC20:AE819) -> 0 | AF19: =SUM(AF20:AH819) -> 0 | AI19: =SUM(AI20:AK819) -> 0 | AL19: =SUM(AL20:AN819) -> 0 | AO19: =SUM(AO20:AQ819) -> 0 | AR19: =SUM(AR20:AT819) -> 0 | AU19: =SUM(AU20:AW819) -> 0 | AX19: =SUM(AX20:AZ819) -> 0 | BA19: =SUM(BA20:BE819) -> 0 | BF19: =SUM(BF20:BJ819) -> 0 | BK19: =SUM(BK20:BO819) -> 0 | BP19: =SUM(BP20:BT819) -> 0 | BU19: =SUM(BU20:BY819) -> 0 | BZ19: =SUM(BZ20:CD819) -> 0 | CE19: =SUM(BA19:CD19) -> 0
A20: 1 | CE20: =SUM(BA20:CD20) -> 0
A21: 2 | CE21: =SUM(BA21:CD21) -> 0
A22: 3 | CE22: =SUM(BA22:CD22) -> 0
A23: 4 | CE23: =SUM(BA23:CD23) -> 0
A24: 5 | CE24: =SUM(BA24:CD24) -> 0
A25: 6 | CE25: =SUM(BA25:CD25) -> 0
A26: 7 | CE26: =SUM(BA26:CD26) -> 0
A27: 8 | CE27: =SUM(BA27:CD27) -> 0
A28: 9 | CE28: =SUM(BA28:CD28) -> 0
A29: 10 | CE29: =SUM(BA29:CD29) -> 0
A30: 11 | CE30: =SUM(BA30:CD30) -> 0
A31: 12 | CE31: =SUM(BA31:CD31) -> 0
... A819: 800 | CE819: =SUM(BA819:CD819) -> 0

Sheet Form 022 Grant Summary
A1: Date: | D1: ='Form 020 Overview'!BG3 -> 0 | G1: / | H1: ='Form 020 Overview'!BJ3 -> 0 | K1: / | L1: ='Form 020 Overview'!BM3 -> 0 | P1: Grant Number: | Y1: ='Form 020 Overview'!K3 -> 0 | AI1: Grant Start Date: | AR1: =#REF! -> #REF! | AT1: / | AU1: =#REF! -> #REF! | AW1: / | AX1: =#REF! -> #REF!
A6: Incremental/Cumulative Performance Targets
P7: Year 1 of 2 Year Grant | AS7: Year 2 of 2 Year Grant
A8: Category | P8: Carry-Over | U8: =#REF! -> #REF! | AE8: to | AG8: =DATE(YEAR(U9),MONTH(U9)+B2,DAY(U9)+1) -> #REF! | AQ8: to | AS8: =DATE(YEAR(AG9),MONTH(AG9)+B2,DAY(AG9)+1) -> #REF! | BC8: to | BE8: =DATE(YEAR(AS9),MONTH(AS9)+B2,DAY(AS9)+1) -> #REF! | BO8: to
U9: =DATE(YEAR(U8),MONTH(U8)+6,DAY(U8)-1) -> #REF! | AG9: =DATE(YEAR(AG8),MONTH(AG8)+6,DAY(AG8)-1) -> #REF! | AS9: =DATE(YEAR(AS8),MONTH(AS8)+6,DAY(AS8)-1) -> #REF! | BE9: =DATE(YEAR(BE8),MONTH(BE8)+6,DAY(BE8)-1) -> #REF!
U10: Inc. | AA10: Grant Cum. | AG10: Inc. | AM10: Grant Cum. | AS10: Inc. | AY10: Grant Cum. | BE10: Inc. | BK10: Grant Cum.
A11: New Participants: | P11: 0 | U11: 0 | AA11: =SUM(P11:Z11) -> 0 | AG11: 0 | AM11: =SUM(AA11:AL11) -> 0 | AS11: 0 | AY11: =SUM(AM11:AX11) -> 0 | BE11: 0 | BK11: =SUM(AY11:BJ11) -> 0
A12: Exits: | U12: 0 | AA12: =U12 -> 0 | AG12: 0 | AM12: =SUM(AA12:AL12) -> 0 | AS12: 0 | AY12: =SUM(AM12:AX12) -> 0 | BE12: 0 | BK12: =SUM(AY12:BJ12) -> 0
A13: Entered Employment at Exit: | U13: 0 | AA13: =U13 -> 0 | AG13: 0 | AM13: =SUM(AA13:AL13) -> 0 | AS13: 0 | AY13: =SUM(AM13:AX13) -> 0 | BE13: 0 | BK13: =SUM(AY13:BJ13) -> 0
A14: Grant Participants
A15: Grant Participant Category | P15: Carry-Over | U15: =#REF! -> #REF! | AE15: to | AG15: =DATE(YEAR(U9),MONTH(U9)+B2,DAY(U9)+1) -> #REF! | AQ15: to | AS15: =DATE(YEAR(AG9),MONTH(AG9)+B2,DAY(AG9)+1) -> #REF! | BC15: to | BE15: =DATE(YEAR(AS9),MONTH(AS9)+B2,DAY(AS9)+1) -> #REF! | BO15: to
U16: =DATE(YEAR(U8),MONTH(U8)+6,DAY(U8)-1) -> #REF! | AG16: =DATE(YEAR(AG8),MONTH(AG8)+6,DAY(AG8)-1) -> #REF! | AS16: =DATE(YEAR(AS8),MONTH(AS8)+6,DAY(AS8)-1) -> #REF! | BE16: =DATE(YEAR(BE8),MONTH(BE8)+6,DAY(BE8)-1) -> #REF!
U17: Inc. | AA17: Grant Cum. | AG17: Inc. | AM17: Grant Cum. | AS17: Inc. | AY17: Grant Cum. | BE17: Inc. | BK17: Grant Cum.
A18: Training Services Total | P18: =SUM(P19:T22) -> 0 | U18: =SUM(U19:Z22) -> 0 | AA18: =SUM(P18:Z18) -> 0 | AG18: =SUM(AG19:AL22) -> 0 | AM18: =SUM(AA18:AL18) -> 0 | AS18: =SUM(AS19:AX22) -> 0 | AY18: =SUM(AM18:AX18) -> 0 | BE18: =SUM(BE19:BJ22) -> 0 | BK18: =SUM(AY18:BJ18) -> 0
B19: Remedial: | P19: 0 | U19: 0 | AA19: =SUM(P19:Z19) -> 0 | AG19: 0 | AM19: =SUM(AA19:AL19) -> 0 | AS19: 0 | AY19: =SUM(AM19:AX19) -> 0 | BE19: 0 | BK19: =SUM(AY19:BJ19) -> 0
B20: Academic: | P20: 0 | U20: 0 | AA20: =SUM(P20:Z20) -> 0 | AG20: 0 | AM20: =SUM(AA20:AL20) -> 0 | AS20: 0 | AY20: =SUM(AM20:AX20) -> 0 | BE20: 0 | BK20: =SUM(AY20:BJ20) -> 0
B21: Vocational/Occupational: | P21: 0 | U21: 0 | AA21: =SUM(P21:Z21) -> 0 | AG21: 0 | AM21: =SUM(AA21:AL21) -> 0 | AS21: 0 | AY21: =SUM(AM21:AX21) -> 0 | BE21: 0 | BK21: =SUM(AY21:BJ21) -> 0
B22: OJT/EBT/Customized: | P22: 0 | U22: 0 | AA22: =SUM(P22:Z22) -> 0 | AG22: 0 | AM22: =SUM(AA22:AL22) -> 0 | AS22: 0 | AY22: =SUM(AM22:AX22) -> 0 | BE22: 0 | BK22: =SUM(AY22:BJ22) -> 0
A23: Supportive Services Total | P23: 0 | U23: 0 | AA23: =SUM(P23:Z23) -> 0 | AG23: 0 | AM23: =SUM(AA23:AL23) -> 0 | AS23: 0 | AY23: =SUM(AM23:AX23) -> 0 | BE23: 0 | BK23: =SUM(AY23:BJ23) -> 0
B24: Child Care: | P24: 0 | U24: 0 | AA24: =SUM(P24:Z24) -> 0 | AG24: 0 | AM24: =SUM(AA24:AL24) -> 0 | AS24: 0 | AY24: =SUM(AM24:AX24) -> 0 | BE24: 0 | BK24: =SUM(AY24:BJ24) -> 0
B25: Transportation: | P25: 0 | U25: 0 | AA25: =SUM(P25:Z25) -> 0 | AG25: 0 | AM25: =SUM(AA25:AL25) -> 0 | AS25: 0 | AY25: =SUM(AM25:AX25) -> 0 | BE25: 0 | BK25: =SUM(AY25:BJ25) -> 0
B26: Needs Related Payments: | P26: 0 | U26: 0 | AA26: =SUM(P26:Z26) -> 0 | AG26: 0 | AM26: =SUM(AA26:AL26) -> 0 | AS26: 0 | AY26: =SUM(AM26:AX26) -> 0 | BE26: 0 | BK26: =SUM(AY26:BJ26) -> 0
B27: Other: | P27: 0 | U27: 0 | AA27: =SUM(P27:Z27) -> 0 | AG27: 0 | AM27: =SUM(AA27:AL27) -> 0 | AS27: 0 | AY27: =SUM(AM27:AX27) -> 0 | BE27: 0 | BK27: =SUM(AY27:BJ27) -> 0
A29: Grant Expenditures Category | U29: =#REF! -> #REF! | AE29: to | AG29: =DATE(YEAR(U9),MONTH(U9)+B2,DAY(U9)+1) -> #REF! | AQ29: to | AS29: =DATE(YEAR(AG9),MONTH(AG9)+B2,DAY(AG9)+1) -> #REF! | BC29: to | BE29: =DATE(YEAR(AS9),MONTH(AS9)+B2,DAY(AS9)+1) -> #REF! | BO29: to
U30: =DATE(YEAR(U8),MONTH(U8)+6,DAY(U8)-1) -> #REF! | AG30: =DATE(YEAR(AG8),MONTH(AG8)+6,DAY(AG8)-1) -> #REF! | AS30: =DATE(YEAR(AS8),MONTH(AS8)+6,DAY(AS8)-1) -> #REF! | BE30: =DATE(YEAR(BE8),MONTH(BE8)+6,DAY(BE8)-1) -> #REF!
U31: Inc. | AA31: Grant Cum. | AG31: Inc. | AM31: Grant Cum. | AS31: Inc. | AY31: Grant Cum. | BE31: Inc. | BK31: Grant Cum.
A32: Program Total: | U32: =SUM(U33,U44) -> 0 | AA32: =SUM(AA33,AA44) -> 0 | AG32: =SUM(AG33,AG44) -> 0 | AM32: =SUM(AM33,AM44) -> 0 | AS32: =SUM(AS33,AS44) -> 0 | AY32: =SUM(AY33,AY44) -> 0 | BE32: =SUM(BE33,BE44) -> 0 | BK32: =SUM(BK33,BK44) -> 0
A33: Subtotal Funding Amount: | U33: =SUM(U34,U39) -> 0 | AA33: =SUM(AA34,AA39) -> 0 | AG33: =SUM(AG34,AG39) -> 0 | AM33: =SUM(AM34,AM39) -> 0 | AS33: =SUM(AS34,AS39) -> 0 | AY33: =SUM(AY34,AY39) -> 0 | BE33: =SUM(BE34,BE39) -> 0 | BK33: =SUM(BK34,BK39) -> 0
A34: Training Services Total: | U34: =SUM(U35:Z38) -> 0 | AA34: =SUM(AA35:AF38) -> 0 | AG34: =SUM(AG35:AL38) -> 0 | AM34: =SUM(AM35:AR38) -> 0 | AS34: =SUM(AS35:AX38) -> 0 | AY34: =SUM(AY35:BD38) -> 0 | BE34: =SUM(BE35:BJ38) -> 0 | BK34: =SUM(BK35:BP38) -> 0
B35: Remedial: | U35: 0 | AA35: =U35 -> 0 | AG35: 0 | AM35: =SUM(AA35:AL35) -> 0 | AS35: 0 | AY35: =SUM(AM35:AX35) -> 0 | BE35: 0 | BK35: =SUM(AY35:BJ35) -> 0
B36: Academic: | U36: 0 | AA36: =U36 -> 0 | AG36: 0 | AM36: =SUM(AA36:AL36) -> 0 | AS36: 0 | AY36: =SUM(AM36:AX36) -> 0 | BE36: 0 | BK36: =SUM(AY36:BJ36) -> 0
B37: Vocational/Occupational | U37: 0 | AA37: =U37 -> 0 | AG37: 0 | AM37: =SUM(AA37:AL37) -> 0 | AS37: 0 | AY37: =SUM(AM37:AX37) -> 0 | BE37: 0 | BK37: =SUM(AY37:BJ37) -> 0
B38: OJT/EBT/Customized Training: | U38: 0 | AA38: =U38 -> 0 | AG38: 0 | AM38: =SUM(AA38:AL38) -> 0 | AS38: 0 | AY38: =SUM(AM38:AX38) -> 0 | BE38: 0 | BK38: =SUM(AY38:BJ38) -> 0
A39: Supportive Services Total: | U39: =SUM(U35:Z38) -> 0 | AA39: =SUM(AA40:AF43) -> 0 | AG39: =SUM(AG35:AL38) -> 0 | AM39: =SUM(AM40:AR43) -> 0 | AS39: =SUM(AS35:AX38) -> 0 | AY39: =SUM(AY40:BD43) -> 0 | BE39: =SUM(BE35:BJ38) -> 0 | BK39: =SUM(BK40:BP43) -> 0
B40: Child Care | U40: 0 | AA40: =U40 -> 0 | AG40: 0 | AM40: =SUM(AA35:AL35) -> 0 | AS40: 0 | AY40: =SUM(AM40:AX40) -> 0 | BE40: 0 | BK40: =SUM(AY40:BJ40) -> 0
B41: Transportation: | U41: 0 | AA41: =U41 -> 0 | AG41: 0 | AM41: =SUM(AA41:AL41) -> 0 | AS41: 0 | AY41: =SUM(AM41:AX41) -> 0 | BE41: 0 | BK41: =SUM(AY41:BJ41) -> 0
B42: Needs Related Payments: | U42: 0 | AA42: =U42 -> 0 | AG42: 0 | AM42: =SUM(AA42:AL42) -> 0 | AS42: 0 | AY42: =SUM(AM42:AX42) -> 0 | BE42: 0 | BK42: =SUM(AY42:BJ42) -> 0
B43: Other: | U43: 0 | AA43: =U43 -> 0 | AG43: 0 | AM43: =SUM(AA43:AL43) -> 0 | AS43: 0 | AY43: =SUM(AM43:AX43) -> 0 | BE43: 0 | BK43: =SUM(AY43:BJ43) -> 0
A44: Case Management Request: | U44: 0 | AA44: =U44 -> 0 | AG44: 0 | AM44: =SUM(AA44:AL44) -> 0 | AS44: 0 | AY44: =SUM(AM44:AX44) -> 0 | BE44: 0 | BK44: =SUM(AY44:BJ44) -> 0
D46: Case Management
...
