Workbook
Name OLE_LINK1: 'Agency Approval'!#REF!
Name OLE_LINK2: 'Agency Approval'!#REF!
Name OLE_LINK4: 'General Instructions'!#REF!

Sheet General Instructions
B1: State of Illinois -- Uniform Budget Template -- General Instructions
B3: This form is used to apply to individual State of Illinois discretionary grant programs. Applicants should submit budgets based upon the total estimated costs for the project including all funding sources. Pay attention to applicable program specific instructions, if attached. The applicant organization should refer to 2 CFR 200, “Uniform Administrative Requirements, Cost Principles, and Audit Requirements for Federal Awards” cited within these instructions.
B5: You must consult with your Business Office prior to submitting this form for any award restrictions, limitations or requirements when filling out the narrative and Uniform Budget Template.
B6: Section A – Budget Summary
B7: STATE OF ILLINOIS FUNDS
B8: All applicants must complete Section A and provide a break-down by the applicable budget categories shown in lines 1-17. Please read all instructions before completing form.
B9: STATE OF ILLINOIS GRANT FUNDS
B10: Provide a total requested State of Illinois Grant amount for each year in the Revenue portion of Section A. The amount entered in Line (a) will equal the total amount budgeted on Line 18 of Section A.
B11: BUDGET SUMMARY – STATE OF ILLINOIS FUNDS
B12: All applicants must complete Section A and provide a break-down by the applicable budget categories shown in lines 1-17.
B14: Line 18: Show the total budget request for each fiscal year for which funding is requested.
B16: Please use detail worksheet and narrative section for further descriptions and explanations of budgetary line items
... B94: (e) The Federal/State awarding agency may, at its option, restrict the transfer of funds among direct cost categories or programs, functions and activities for Federal/State awards in which the Federal/State share of the project exceeds the Simplified Acquisition Threshold and the cumulative amount of such transfers exceeds or is expected to exceed 10 percent or $1,000 per detail line item, whichever is greater of the total budget as last approved by the Federal/State awarding agency. The Federal/State awarding agency cannot permit a transfer that would cause any Federal/State appropriation to be used for purposes other than those consistent with the appropriation.

Sheet Section A
A1: STATE OF ILLINOIS | B1: UNIFORM GRANT BUDGET TEMPLATE | E1: Commerce & Economic Opportunity
A2: Organization Name: | C2: UEI# | E2: NOFO # | F2: N/A | G2: Please type in the light blue highlighted cells
A3: CSFA Number: | B3: 420-30-0081 | C3: CSFA Description: | D3: WIOA Statewide Rapid Response | E3: Fiscal Year: | F3: 2026
A4: S E C T I O N A -- STATE OF ILLINOIS FUNDS | E4: Grant #
A5: Revenues | E5: TOTAL REVENUE
A6: (a). State of Illinois Grant Amount Requested | E6: =+E40 -> 0
A7: BUDGET SUMMARY STATE OF ILLINOIS FUNDS
A8: Budget Expenditure Categories | C8: OMB Uniform Guidance Federal Awards Reference 2 CFR 200 | E8: TOTAL EXPENDITURES
A9: 1A. Rapid Response Case Management - Personnel | C9: 200.43 | E9: =+'1A'!G10 -> 0
A10: 1B. Rapid Reponse Case Management - Personnel - Admin | C10: 200.43 | E10: ='1B'!G10 -> 0
A11: 1C. Trade Case Management - Personnel | C11: 200.43 | E11: =+'1C'!G10 -> 0
A12: 2A. Rapid Response Case Management - Fringe Benefits | C12: 200.431 | E12: =+'2A'!G9 -> 0
A13: 2B. Rapid Response Case Management - Fringe Benefits - Admin | C13: 200.431 | E13: ='2B'!G9 -> 0
A14: 2C. Trade Case Management - Fringe Benefits | C14: 200.431 | E14: =+'2C'!G9 -> 0
A15: 3. Travel | C15: 200.474 | E15: =+Travel!G9 -> 0
A16: 4. Equipment | C16: 200.439 | E16: =+'Equipment '!D7 -> 0
A17: 5. Supplies | C17: 200.94 | E17: =+Supplies!D10 -> 0
A18: 6. Contractual Services & Subawards | C18: 200.318 & 200.92 | E18: =+'Contractual Services'!C12 -> 0
A19: 7. Consultant (Professional Services) | C19: 200.459 | E19: =+Consultant!G23+Consultant!G6 -> 0
A20: 8. Construction | E20: =+'Construction '!C6 -> 0
A21: 9. Occupancy (Rent & Utilities) | C21: 200.465 | E21: =+'Occupancy '!F8 -> 0
A22: 10. Research & Development (R&D) | C22: 200.87 | E22: =+'R & D '!C6 -> 0
A23: 11. Telecommunications | E23: =+'Telecommunications '!F8 -> 0
A24: 12. Training & Education | C24: 200.472 | E24: =+'Training & Education'!F8 -> 0
A25: 13. Direct Administrative costs | C25: 200.413 ( c) | E25: =+'Direct Administrative '!G7 -> 0
A26: 14. Miscellaneous Costs | E26: =+'Miscellaneous (other) Costs '!F9 -> 0
A27: 15A RR Direct Training | E27: =+'Direct Training'!F9 -> 0
A28: 15B RR Work-Based Training | E28: =+'Work-Based'!F11 -> 0
A29: 15C RR Other Program costs | E29: =+'Other Program'!F9 -> 0
A30: 15D Supportive Services | E30: =+Supportive!F9 -> 0
A31: 15E Incumbent Worker | E31: ='Incumbent '!F9 -> 0
A32: 15F Trade Case Management Other | E32: =+Trade!F9 -> 0
A33: 16. Total Direct Costs (lines 1-15) | C33: 200.413 | E33: =SUM(E9:F32) -> 0
A34: 17A. Indirect Costs Program- (see below) | C34: 200.414 | E34: =+'17A'!D6 -> 0
A35: Rate: | C35: =IF(B35="","",IF(B35<>+'17A'!C4,"Rate must match 17A in Section C","")) | E35: =IF(B36="","",IF(B36<>(+'17A'!B4+'17A'!B5),"Base must match 17A in Section C",""))
A36: Base:
A37: 17B. Indirect Costs Admin- (see below) | C37: 200.414 | E37: =+'17B'!D6 -> 0
A38: Rate: | C38: =IF(B38="","",IF(B38<>+'17B'!C4,"Rate must match 17B in Section C","")) | E38: =IF(B39="","",IF(B39<>(+'17B'!B4+'17B'!B5),"Base must match 17B in Section C",""))
A39: Base:
A40: 18. Total Costs State Grant Funds (16 &17) | E40: =E33+E34+E37 -> 0

Sheet Section A-Indirect Worksheet
B1: FY2023 WIOA Rapid Response Indirect Worksheet
A2: UPDATED 6/11/2020 | H2: Indirect Cost Rate =
A3: GATA Line | B3: GRS Exp Code | C3: Description | F3: Total Costs | G3: Direct Cost Base Exclusions | H3: Direct Cost Base | I3: Notes (for de minimis calculations) | J3: Please enter data in the blue highlighted cells
A4: 1A | B4: 2001 | C4: RAPID RESPONSE CASE MANAGEMENT - PERSONNEL | F4: ='Section A'!E9 -> 0 | H4: =F4-G4 -> 0 | I4: =IF(F4="","",IF(F4<>'Section A'!E9,"Total Must Equal 1A in Section A",""))
A5: 1B | B5: 1001 | C5: RAPID REPONSE CASE MANAGEMENT PERSONNEL - ADMIN | F5: ='Section A'!E10 -> 0 | H5: =F5-G5 -> 0 | I5: =IF(F5="","",IF(F5<>'Section A'!E10,"Total Must Equal 1B in Section A",""))
A6: 1C | B6: 3001 | C6: TRADE CASE MANAGEMENT - PERSONNEL | F6: ='Section A'!E11 -> 0 | H6: =F6-G6 -> 0 | I6: =IF(F6="","",IF(F6<>'Section A'!E11,"Total Must Equal 1C in Section A",""))
A7: 2A | B7: 2002 | C7: RAPID RESPONSE CASE MANAGEMENT - FRINGE BENEFITS | F7: ='Section A'!E12 -> 0 | H7: =F7-G7 -> 0 | I7: =IF(F7="","",IF(F7<>'Section A'!E12,"Total Must Equal 2A in Section A",""))
A8: 2B | B8: 1002 | C8: RAPID RESPONSE CASE MANAGEMENT - FRINGE BENEFITS - ADMIN | F8: ='Section A'!E13 -> 0 | H8: =F8-G8 -> 0 | I8: =IF(F8="","",IF(F8<>'Section A'!E13,"Total Must Equal 2B in Section A",""))
A9: 2C | B9: 3002 | C9: TRADE CASE MANAGEMENT - FRINGE BENEFITS | F9: ='Section A'!E14 -> 0 | H9: =F9-G9 -> 0 | I9: =IF(F9="","",IF(F9<>'Section A'!E14,"Total Must Equal 2C in Section A",""))
A10: 13 | B10: 1013 | C10: DIRECT ADMINISTRATION | F10: ='Section A'!E25 -> 0 | H10: =F10-G10 -> 0 | I10: =IF(F10="","",IF(F10<>'Section A'!E25,"Total Must Equal 13 in Section A",""))
A11: 15A | B11: 2510 | C11: RAPID RESPONSE DIRECT TRAINING COSTS | F11: =SUM(F12:F13) -> 0 | G11: =SUM(G12:G13) -> 0 | H11: =F11-G11 -> 0 | I11: =IF(F11="","",IF(F11<>'Section A'!E27,"Total Must Equal 15A in Section A",""))
B12: 2511 | D12: Occupational Skills Training ITA | H12: =F12-G12 -> 0 | I12: Must Exclude
B13: 2512 | D13: Occupational Skills Training Other | H13: =F13-G13 -> 0 | I13: **Not Excludable
A14: 15B | B14: 2520 | C14: RAPID RESPONSE WORK BASED TRAINING | F14: =SUM(F15:F19) -> 0 | G14: =SUM(G15:G19) -> 0 | H14: =F14-G14 -> 0 | I14: =IF(F14="","",IF(F14<>'Section A'!E28,"Total Must Equal 15B in Section A",""))
B15: 2521 | D15: On-the-Job Training | H15: =F15-G15 -> 0 | I15: **Not Excludable
B16: 2522 | D16: Customized Training | H16: =F16-G16 -> 0 | I16: **Not Excludable
B17: 2523 | D17: Work Experience/Internships | H17: =F17-G17 -> 0 | I17: **Not Excludable
B18: 2524 | D18: Transitional Jobs | H18: =F18-G18 -> 0 | I18: **Not Excludable
B19: 2525 | D19: Other Work Based Training | H19: =F19-G19 -> 0 | I19: **Not Excludable
A20: 15C | B20: 2530 | C20: RAPID RESPONSE PROGRAM - OTHER PROGRAM COSTS | F20: =SUM(F21:F32) -> 0 | G20: =SUM(G21:G32) -> 0 | H20: =F20-G20 -> 0 | I20: =IF(F20="","",IF(F20<>'Section A'!E29,"Total Must Equal 15C in Section A",""))
D21: TRAVEL | H21: =F21-G21 -> 0 | I21: Not Excludable
D22: EQUIPMENT* (Prior Approval Required) | H22: =F22-G22 -> 0 | I22: Total Amount of Equipment is Excludable
D23: SUPPLIES | H23: =F23-G23 -> 0 | I23: Not Excludable
D24: SAFETY TRAINING | H24: =F24-G24 -> 0 | I24: Not Excludable
D25: WORKSITE TOOLS | H25: =F25-G25 -> 0 | I25: Not Excludable
D26: CONTRACTUAL AND SUBAWARDS | H26: =F26-G26 -> 0 | I26: *See Note Below
D27: CONSULTANT | H27: =F27-G27 -> 0 | I27: Not Excludable
D28: OCCUPANCY | H28: =F28-G28 -> 0 | I28: Exclude only rent portion
D29: TELECOMMUNICATIONS | H29: =F29-G29 -> 0 | I29: Not Excludable
D30: TRAINING AND EDUCATION (STAFF) | H30: =F30-G30 -> 0 | I30: Not Excludable
D31: CAREER SERVICES NOT CLASSIFIED ELSEWARE | H31: =F31-G31 -> 0 | I31: Not Excludable
D32: MISCELLANEOUS | H32: =F32-G32 -> 0 | I32: Not Excludable
A33: 15D | B33: 2540 | C33: SUPPORTIVE SERVICES | F33: ='Section A'!E30 -> 0 | H33: =F33-G33 -> 0 | I33: Must Exclude
A34: 15E | B34: 2550 | C34: INCUMBENT WORKER | F34: ='Section A'!E31 -> 0 | H34: =F34-G34 -> 0 | I34: Not Excludable
A35: 15F | B35: 3030 | C35: TRADE CASE MANAGEMENT OTHER | F35: ='Section A'!E32 -> 0 | H35: =F35-G35 -> 0
A36: 17A | B36: 2017 | C36: PROGRAM - INDIRECT | F36: ='Section A'!E34 -> 0 | I36: =IF(F36="","",IF(F36<>'Section A'!E34,"Total Must Equal Indirect in Section A",""))
A37: 17B | B37: 1017 | C37: ADMIN - INDIRECT | F37: ='Section A'!E37 -> 0 | H37: =SUM(H5+H8+H10) -> 0 | I37: ADMIN DIRECT COST BASE
B38: 2XXX | C38: TOTAL PROGRAM | F38: =SUM(F4,F5,F6,F7,F8,F9,F10,F11,F14,F20,F33,F34,F35,F36,F37) -> 0 | H38: =SUM(H4+H6+H7++H9+H11+H14+H20+H33+H34+H35) -> 0 | I38: PROGRAM DIRECT COST BASE
C41: Total Indirect Costs | F41: =(SUM(H4+H5+H6+H7+H8+H9+H10+H11+H14+H20+H33+H34+H35))*$I$2 -> 0 | G41: Calculated from Table Above
C42: Indirect Costs Program | F42: ='Section A'!E34 -> 0 | G42: Must Equal Indirect Costs in Section A
...

Sheet ICI
B1: Organization Name: | F1: =+'Section A'!B2 -> 0 | M1: NOFO # | O1: =+'Section A'!F2 -> N/A
B2: SECTION - A (continued) Indirect Cost Rate Information
C3: If your organization is requesting reimbursement for indirect costs on line 17 of the Budget Summary, please select one of the following options.
B5: 1) | E5: Our Organization receives direct Federal funding and currently has a Negotiated Indirect Cost Rate Agreement (NICRA) with our Federal Cognizant Agency. A copy of this agreement will be provided to the State of Illinois’ Indirect Cost Unit for review and documentation before reimbursement is allowed. This NICRA will be accepted by all State of Illinois Agencies up to any statutory, rule-based or programmatic restrictions or limitations. | T5: To select an option - highlight the box and drop down the shape fill box on the drawing tools ribbon. you can either select a fill color or you can fill with texture, choose more textures and pick a checkmark from clipart.
E6: NOTE: (If this option is selected, please provide basic Negotiated Indirect Cost Rate Agreement information in area designated below)
B8: Your Organization may not have a Federally Negotiated Indirect Cost Rate Agreement. Therefore, in order for your Organization to be reimbursed for Indirect Costs from the State of Illinois, your Organization must either: | T8: Complete the Negotiated Indirect Cost Rate Agreement information below if Option (1) or (2a) is selected
C9: A. | D9: Negotiate an Indirect Cost Rate with the State of Illinois’ Indirect Cost Unit with guidance from your State Cognizant Agency on an annual basis.
C10: B. | D10: Elect to use the de minimis rate of 10% modified total direct cost (MTDC) which may be used indefinitely on State of Illinois Awards.
C11: C. | D11: Use a Restricted Rate designated by programmatic or statutory policy. (See Notice of Funding Opportunity for Restricted Rate Programs)
B13: 2a) | E13: Our Organization currently has a Negotiated Indirect Cost Rate Agreement with the State of Illinois that will be accepted by all State of Illinois Agencies up to any statutory, rule-based or programmatic restrictions or limitations. Our Organization is required to submit a new Indirect Cost Rate Proposal to the Indirect Cost Unit within six (6) months after the close of each fiscal year (2 CFR 200 Appendix IV (C)(2)(c).
E14: NOTE: (If this option is selected, please provide basic Indirect Cost Rate information in area designated below)
B15: 2b) | E15: Our Organization currently does not have a Negotiated Indirect Cost Rate Agreement with the State of Illinois. Our Organization will submit our initial Indirect Cost Rate Proposal (ICRP) immediately after our Organization is advised that the State award will be made and, in no event, later than three (3) months after the effective date of the State award (2 CFR 200 Appendix IV (C)(2)(b). The initial ICRP will be sent to the State of Illinois’ Indirect Cost Unit.
E16: NOTE: (Check with your State of Illinois Agency for information regarding reimbursement of indirect costs while your proposal is being negotiated)
B18: 3) | E18: Our Organization has never received a Negotiated Indirect Cost Rate Agreement from either the Federal government or the State of Illinois and elects to charge the de minimis rate of 10% modified total direct cost (MTDC) which may be used indefinitely on State of Illinois awards (2 CFR 200.414 (c)(4)(f) & (200.68).
E19: NOTE: (Your Organization must be eligible, see 2 CFR 200.414 (f), and submit documentation on the calculation of MTDC within your Budget Narrative under Indirect Costs)
B21: 4) | E21: For Restricted Rate Programs (check one) -- Our Organization is using a restricted indirect cost rate that:
E22: _____ | F22: Is included as a “Special Indirect Cost Rate” in our NICRA (2 CFR 200Appendix IV (5) Or;
E23: _____ | F23: Complies with other statutory policies (please specify):
E24: The Restricted Indirect Cost Rate is _________%
B26: 5) | E26: No reimbursement of Indirect Cost is being requested. (Please consult your program office regarding possible match requirements)
B29: Basic Negotiated Indirect Cost Rate Agreement information if Option (1) or (2a) is selected | G29: Period Covered by the NICRA: From: | K29: To: | O29: (mm/dd/yyyy)
G30: Approving Federal/State agency (please specify):
G31: The Indirect Cost Rate is: | I31: % | J31: The Distribution Base is:

Sheet Section B
A1: =+'Section A'!A1 -> STATE OF ILLINOIS | B1: =+'Section A'!B1 -> UNIFORM GRANT BUDGET TEMPLATE | C1: =+'Section A'!E1 -> Commerce & Economic Opportunity | D1: content in rows 1 to 3 & cell C4 come from Section A
A2: ="Organization Name: "&'Section A'!B2 -> Organization Name: | B2: ="NOFO # "&'Section A'!F2 -> NOFO # N/A | C2: ="Fiscal Year "&'Section A'!F3 -> Fiscal Year 2026
A3: S E C T I O N B -- NON STATE OF ILLINOIS FUNDS | C3: ="Grant Number: "&'Section A'!F4 -> Grant Number:
A4: Revenues | C4: TOTAL REVENUE
A5: Grantee Match Requirement ________ % (Agency to populate)
A6: (b). -Cash | C6: 0
A7: (c). -Non-cash | C7: 0
A8: (d). Other Funding & Contributions | C8: 0
A9: NON-STATE Funds Total | C9: =(C6+C7+C8) -> 0
A10: BUDGET SUMMARY NON-STATE OF ILLINOIS FUNDS | D10: you should not need to type anything in below this row
A11: Budget Expenditure Categories | B11: OMB Uniform Guidance Federal Awards Reference 2 CFR 200 | C11: TOTAL EXPENDITURES
A12: 1. Personnel (Salaries & Wages) | B12: 200.43 | C12: =+'1C'!G14 -> 0
A13: 2. Fringe Benefits | B13: 200.431 | C13: =+'2C'!G13 -> 0
A14: 3. Travel | B14: 200.474 | C14: =+Travel!G13 -> 0
A15: 4. Equipment | B15: 200.439 | C15: =+'Equipment '!D11 -> 0
A16: 5. Supplies | B16: 200.94 | C16: =+Supplies!D14 -> 0
A17: 6. Contractual Services & Subawards | B17: 200.318 & 200.92 | C17: =+'Contractual Services'!C16 -> 0
A18: 7. Consultant (Professional Services) | B18: 200.459 | C18: =+Consultant!G10+Consultant!G27 -> 0
A19: 8. Construction | C19: =+'Construction '!C10 -> 0
A20: 9. Occupancy (Rent & Utilities) | B20: 200.465 | C20: =+'Occupancy '!F12 -> 0
A21: 10. Research & Development (R&D) | B21: 200.87 | C21: =+'R & D '!C10 -> 0
A22: 11. Telecommunications | C22: =+'Telecommunications '!F12 -> 0
A23: 12. Training & Education | B23: 200.472 | C23: =+'Training & Education'!F12 -> 0
A24: 13. Direct Administrative costs | B24: 200.413 ( c) | C24: =+'Direct Administrative '!G11 -> 0
A25: 14. Miscellaneous Costs | C25: =+'Miscellaneous (other) Costs '!F13 -> 0
A26: 15. A. Grant Exclusive Line Item(s) | C26: =+#REF! -> #REF!
A27: B. Grant Exclusive Line Item(s) | C27: 0
A28: 16. Total Direct Costs (lines 1-15) | B28: 200.413 | C28: =SUM(C12:C27) -> #REF!
A29: 17. Indirect Costs* (see below) | B29: 200.414 | C29: =+#REF! -> #REF!
A30: Rate: __________ % Base:______________________
A31: 18. Total Costs NON -State Grant Funds (16 &17) | C31: =(C28+C29) -> #REF!

Sheet Certification 
A1: CERTIFICATION | D1: STATE OF ILLINOIS UNIFORM GRANT BUDGET TEMPLATE | G1: ="AGENCY: "&'Section B'!C1 -> AGENCY: Commerce & Economic Opportunity
A2: ="Organization Name: "&'Section A'!B2 -> Organization Name: | D2: ="CSFA Description: "&'Section A'!D3 -> CSFA Description: WIOA Statewide Rapid Response | G2: ="NOFO # "&'Section A'!F2 -> NOFO # N/A
A3: ="CSFA #: "&'Section A'!B3 -> CSFA #: 420-30-0081 | D3: ="DUNS # "&'Section A'!D2 -> DUNS # | G3: ="Fiscal Year(s): "&'Section A'!F3 -> Fiscal Year(s): 2026
A5: (2 CFR 200.415)
A6: “By signing this report, I certify to the best of my knowledge and belief that the report is true, complete, and accurate and that any false, fictitious, or fraudulent information or the omission of any material fact, could result in the immediate termination of my grant award(s).
A11: Institution/Organization | E11: Institution/Organization
A14: Signature | E14: Signature
A17: Name of Official | E17: Name of Official
A20: Title | E20: Title
A21: Chief Financial Officer (or equivalent) | E21: Executive Director (or equivalent)
A23: Date of Execution | E23: Date of Execution
A27: Note: The State awarding agency may change required signers based on the grantee’s organizational structure. The required signers must have the authority to enter into contractual agreements on behalf of the organization.

Sheet Sheet1

Sheet 1A
A1: Section C - Budget Worksheet & Narrative | G1: =+'Section A'!B2 -> 0
A2: 1A). Rapid Response Case Management - Personnel (Salaries & Wages) (2 CFR 200.430)--List each position by title and name of employee, if available. Show the annual salary rate and the percentage of time to be devoted to the project and length of time working on the project . Compensation paid for employees engaged in grant activities must be consistent with that paid for similar work within the applicant organization. Include a description of the responsibilities and duties of each position in relationship to fulfilling the project goals and objectives in the narrative space provided below. Also, provide a justification and description of each position (including vacant positions). Relate each position specifically to program objectives. Personnel cannot exceed 100% of their time on all active projects.
A5: Name | B5: Position(s) | C5: Salary or Wage | D5: Basis (Yr./Mo./Hr.) | E5: % of Time | F5: Length of time | G5: Personnel Cost | I5: Length of time=# of units of Basis
G6: =ROUND(C6*E6*F6,2) -> 0
G7: =ROUND(C7*E7*F7,2) -> 0
G8: =ROUND(C8*E8*F8,2) -> 0
G9: =ROUND(C9*E9*F9,2) -> 0
F10: State Total | G10: =ROUND(SUM(G6:G9),2) -> 0 | I10: If you need to insert rows, insert them between existing rows that total up to the formula in column G
A12: Name | B12: ois | G12: =ROUND(C12*E12*F12,2) -> 0
A13: Name | B13: ois | G13: =ROUND(C13*E13*F13,2) -> 0
F14: NON-State Total | G14: =ROUND(SUM(G11:G13),2) -> 0 | I14: If you need to insert rows, insert them between existing rows that total up to the formula in column G
F16: Total Personnel (Salaries & Wages) | G16: =+G14+G10 -> 0 | I16: This rows adds State & Non-State Totals
A18: Personnel-Admin (Salaries & Wages) Narrative (State): | I18: Give a brief description of items that you are claiming
A21: Personnel Narrative (Non-State) i.e. "Match" or "Other Funding" | I21: Give a brief description of items that you are claiming

Sheet 1B
A1: Section C - Budget Worksheet & Narrative | G1: =+'Section A'!B2 -> 0
A2: 1B). Rapid Response Case Management - Personnel-Admin (Salaries & Wages) (2 CFR 200.430)--List each position by title and name of employee, if available. Show the annual salary rate and the percentage of time to be devoted to the project and length of time working on the project . Compensation paid for employees engaged in grant activities must be consistent with that paid for similar work within the applicant organization. Include a description of the responsibilities and duties of each position in relationship to fulfilling the project goals and objectives in the narrative space provided below. Also, provide a justification and description of each position (including vacant positions). Relate each position specifically to program objectives. Personnel cannot exceed 100% of their time on all active projects.
A5: Name | B5: Position(s) | C5: Salary or Wage | D5: Basis (Yr./Mo./Hr.) | E5: % of Time | F5: Length of time | G5: Personnel Cost | I5: Length of time=# of units of Basis
G6: =ROUND(C6*E6*F6,2) -> 0
G7: =ROUND(C7*E7*F7,2) -> 0
G8: =ROUND(C8*E8*F8,2) -> 0
G9: =ROUND(C9*E9*F9,2) -> 0
F10: State Total | G10: =ROUND(SUM(G6:G9),2) -> 0 | I10: If you need to insert rows, insert them between existing rows that total up to the formula in column G
A12: Name | B12: ois | G12: =ROUND(C12*E12*F12,2) -> 0
A13: Name | B13: ois | G13: =ROUND(C13*E13*F13,2) -> 0
F14: NON-State Total | G14: =ROUND(SUM(G11:G13),2) -> 0 | I14: If you need to insert rows, insert them between existing rows that total up to the formula in column G
F16: Total Personnel-Admin (Salaries & Wages) | G16: =+G14+G10 -> 0 | I16: This rows adds State & Non-State Totals
A18: Personnel-Admin (Salaries & Wages) Narrative (State): | I18: Give a brief description of items that you are claiming
A21: Personnel Narrative (Non-State) i.e. "Match" or "Other Funding" | I21: Give a brief description of items that you are claiming

Sheet 1C
A1: Section C - Budget Worksheet & Narrative | G1: =+'Section A'!B2 -> 0
A2: 1C). Trade Case Management - Personnel (Salaries & Wages) (2 CFR 200.430)--List each position by title and name of employee, if available. Show the annual salary rate and the percentage of time to be devoted to the project and length of time working on the project . Compensation for services of employees rendered during the period of performance under the award, including but not necessarily limited to wages and salaries as defined in 2 CFR 200.430.
A5: Name | B5: Position(s) | C5: Salary or Wage | D5: Basis (Yr./Mo./Hr.) | E5: % of Time | F5: Length of time | G5: Personnel Cost | I5: Length of time=# of units of Basis
G6: =ROUND(C6*E6*F6,2) -> 0
G7: =ROUND(C7*E7*F7,2) -> 0
G8: =ROUND(C8*E8*F8,2) -> 0
G9: =ROUND(C9*E9*F9,2) -> 0
F10: State Total | G10: =ROUND(SUM(G6:G9),2) -> 0 | I10: If you need to insert rows, insert them between existing rows that total up to the formula in column G
A12: Name | B12: ois | G12: =ROUND(C12*E12*F12,2) -> 0
A13: Name | B13: ois | G13: =ROUND(C13*E13*F13,2) -> 0
F14: NON-State Total | G14: =ROUND(SUM(G11:G13),2) -> 0 | I14: If you need to insert rows, insert them between existing rows that total up to the formula in column G
F16: Total Personnel-Program (Salaries & Wages) | G16: =+G14+G10 -> 0 | I16: This rows adds State & Non-State Totals
A18: Personnel-Program (Salaries & Wages) Narrative (State): | I18: Give a brief description of items that you are claiming
A21: Personnel Narrative (Non-State) i.e. "Match" or "Other Funding" | I21: Give a brief description of items that you are claiming

Sheet 2A
A1: Section C - Budget Worksheet & Narrative | G1: =+'Section A'!B2 -> 0
A2: 2A). Rapid Response Case Management - Fringe Benefits (2 CFR 200.431)--Fringe benefits should be based on actual known costs or an established formula. Fringe benefits are for the personnel listed in category (1) direct salaries and wages, and only for the percentage of time devoted to the project. Provide the fringe benefit rate used and a clear description of how the computation of fringe benefits was done. Provide both the annual (for multiyear awards) and total. If a fringe benefit rate is not used, show how the fringe benefits were computed for each position. The budget justification should be reflected in the budget description. Elements that comprise fringe benefits should be indicated.
A4: Name | C4: Position(s) | E4: Base | F4: Rate | G4: Fringe Benefit Cost
G5: =ROUND(E5*F5,2) -> 0
G6: =ROUND(E6*F6,2) -> 0
G7: =ROUND(E7*F7,2) -> 0
G8: =ROUND(E8*F8,2) -> 0
F9: State Total | G9: =ROUND(SUM(G5:G8),2) -> 0 | I9: If you need to insert rows, insert them between existing rows that total up to the formula in column G
A11: njkhkj | C11: 0987u980 | G11: =ROUND(E11*F11,2) -> 0
A12: iuhyjh | C12: poiu9oi | G12: =ROUND(E12*F12,2) -> 0
F13: NON-State Total | G13: =ROUND(SUM(G10:G12),2) -> 0 | I13: If you need to insert rows, insert them between existing rows that total up to the formula in column G
F15: Total Fringe Benefits | G15: =+G13+G9 -> 0 | I15: This rows adds State & Non-State Totals
A17: Fringe Benefits-Admin Narrative (State): | I17: Give a brief description of items that you are claiming
A20: Fringe Benefits Narrative (Non-State) i.e. "Match" or "Other Funding" | I20: Give a brief description of items that you are claiming

Sheet 2B
A1: Section C - Budget Worksheet & Narrative | G1: =+'Section A'!B2 -> 0
A2: 2B). Rapid Response Case Management - Fringe Benefits-Admin (2 CFR 200.431)--Fringe benefits should be based on actual known costs or an established formula. Fringe benefits are for the personnel listed in category (1) direct salaries and wages, and only for the percentage of time devoted to the project. Provide the fringe benefit rate used and a clear description of how the computation of fringe benefits was done. Provide both the annual (for multiyear awards) and total. If a fringe benefit rate is not used, show how the fringe benefits were computed for each position. The budget justification should be reflected in the budget description. Elements that comprise fringe benefits should be indicated.
A4: Name | C4: Position(s) | E4: Base | F4: Rate | G4: Fringe Benefit Cost
G5: =ROUND(E5*F5,2) -> 0
G6: =ROUND(E6*F6,2) -> 0
G7: =ROUND(E7*F7,2) -> 0
G8: =ROUND(E8*F8,2) -> 0
F9: State Total | G9: =ROUND(SUM(G5:G8),2) -> 0 | I9: If you need to insert rows, insert them between existing rows that total up to the formula in column G
A11: njkhkj | C11: 0987u980 | G11: =ROUND(E11*F11,2) -> 0
A12: iuhyjh | C12: poiu9oi | G12: =ROUND(E12*F12,2) -> 0
F13: NON-State Total | G13: =ROUND(SUM(G10:G12),2) -> 0 | I13: If you need to insert rows, insert them between existing rows that total up to the formula in column G
F15: Total Fringe Benefits-Admin | G15: =+G13+G9 -> 0 | I15: This rows adds State & Non-State Totals
A17: Fringe Benefits-Admin Narrative (State): | I17: Give a brief description of items that you are claiming
A20: Fringe Benefits Narrative (Non-State) i.e. "Match" or "Other Funding" | I20: Give a brief description of items that you are claiming

Sheet 2C
A1: Section C - Budget Worksheet & Narrative | G1: =+'Section A'!B2 -> 0
A2: 2B). Trade Case Management - Fringe Benefits (2 CFR 200.431)--Allowances and services provided by employers to their employees in addition to regular salaries and wage as outlined in 2 CFR 200.431 for individual personnel providing services.
A4: Name | C4: Position(s) | E4: Base | F4: Rate | G4: Fringe Benefit Cost
G5: =ROUND(E5*F5,2) -> 0
G6: =ROUND(E6*F6,2) -> 0
G7: =ROUND(E7*F7,2) -> 0
G8: =ROUND(E8*F8,2) -> 0
F9: State Total | G9: =ROUND(SUM(G5:G8),2) -> 0 | I9: If you need to insert rows, insert them between existing rows that total up to the formula in column G
A11: njkhkj | C11: 0987u980 | G11: =ROUND(E11*F11,2) -> 0
A12: iuhyjh | C12: poiu9oi | G12: =ROUND(E12*F12,2) -> 0
F13: NON-State Total | G13: =ROUND(SUM(G10:G12),2) -> 0 | I13: If you need to insert rows, insert them between existing rows that total up to the formula in column G
F15: Total Fringe Benefits-Program | G15: =+G13+G9 -> 0 | I15: This rows adds State & Non-State Totals
A17: Fringe Benefits-Program Narrative (State): | I17: Give a brief description of items that you are claiming
A20: Fringe Benefits Narrative (Non-State) i.e. "Match" or "Other Funding" | I20: Give a brief description of items that you are claiming

Sheet Travel
A1: Section C - Budget Worksheet & Narrative | G1: =+'Section A'!B2 -> 0
A2: 3). Travel (2 CFR 200.474)-- Travel should include: origin and destination, estimated costs and type of transportation, number of travelers, related lodging and per diem costs, brief description of the travel involved, its purpose, and explanation of how the proposed travel is necessary for successful completion of the project. In training projects, travel and meals for trainees should be listed separately. Show the number of trainees and unit cost involved. Identify the location of travel, if known; or if unknown, indicate "location to be determined." Indicate source of Travel Policies applied, Applicant or State of Illinois Travel Regulations. NOTE: Dollars requested in the travel category should be for staff travel only. Travel for consultants should be shown in the consultant category along with the consultant’s fee. Travel for training participants, advisory committees, review panels and etc., should be itemized the same way as indicated above and placed in the “Miscellaneous” category.
A4: Purpose of Travel/Items | B4: Location | C4: Cost Rate | D4: Basis | E4: Quantity | F4: # of Trips | G4: Travel Cost
G5: =ROUND(+C5*E5*F5,2) -> 0
G6: =ROUND(+C6*E6*F6,2) -> 0
G7: =ROUND(+C7*E7*F7,2) -> 0
G8: =ROUND(+C8*E8*F8,2) -> 0
F9: State Total | G9: =ROUND(SUM(G5:G8),2) -> 0 | I9: If you need to insert rows, insert them between existing rows that total up to the formula in column G
A11: Purpose of Travel | B11: Location | G11: =ROUND(+C11*E11*F11,2) -> 0
A12: Purpose of Travel | B12: Location | G12: =ROUND(+C12*E12*F12,2) -> 0
F13: NON-State Total | G13: =ROUND(SUM(G10:G12),2) -> 0 | I13: If you need to insert rows, insert them between existing rows that total up to the formula in column G
F15: Total Travel | G15: =+G13+G9 -> 0 | I15: This rows adds State & Non-State Totals
A17: Travel Narrative (State): | I17: Give a brief description of items that you are claiming
A20: Travel Narrative (Non-State) i.e. "Match" or "Other Funding" | I20: Give a brief description of items that you are claiming

Sheet Equipment 
A1: Section C - Budget Worksheet & Narrative | D1: =+'Section A'!B2 -> 0
A2: 4). Equipment (2 CFR 200.439)-- Provide justification for the use of each item and relate them to specific program objectives. Provide both the annual (for multiyear awards) and total for equipment. Equipment is defined as an article of tangible personal property that has a useful life of more than one year and a per-unit acquisition cost which equals or exceeds the lesser of the capitalization level established by the non-Federal entity for financial statement purposes, or $5,000. An applicant organization may classify equipment at a lower dollar value but cannot classify it higher than $5,000. (Note: Organization's own capitalization policy for classification of equipment can be used). Applicants should analyze the cost benefits of purchasing versus leasing equipment, especially high cost items and those subject to rapid technical advances. Rented or leased equipment costs should be listed in the "Contractual" category. Explain how the equipment is necessary for the success of the project. Attach a narrative describing the procurement method to be used.
A4: Item | B4: Quantity | C4: Cost | D4: Equipment Cost
A5: Item | D5: =ROUND(+B5*C5,2) -> 0
A6: Item | D6: =ROUND(+B6*C6,2) -> 0
C7: State Total | D7: =ROUND(SUM(D5:D6),2) -> 0 | F7: If you need to insert rows, insert them between existing rows that total up to the formula in column D
A9: Item | D9: =ROUND(+B9*C9,2) -> 0
A10: Item | D10: =ROUND(+B10*C10,2) -> 0
C11: NON-State Total | D11: =ROUND(SUM(D8:D10),2) -> 0 | F11: If you need to insert rows, insert them between existing rows that total up to the formula in column D
B13: Total Equipment | D13: =+D11+D7 -> 0 | F13: This rows adds State & Non-State Totals
A15: Equipment Narrative (State): | F15: Give a brief description of items that you are claiming
A18: Equipment Narrative (Non-State) i.e. "Match" or "Other Funding" | F18: Give a brief description of items that you are claiming

Sheet Supplies
A1: Section C - Budget Worksheet & Narrative | D1: =+'Section A'!B2 -> 0
A2: 5). Supplies (2 CFR 200.94)--List items by type (office supplies, postage, training materials, copying paper, and other expendable items such as books, hand held tape recorders) and show the basis for computation. Generally, supplies include any materials that are expendable or consumed during the course of the project.
A3: Item | B3: Quantity/ Duration | C3: Cost | D3: Supplies Cost
D4: =ROUND(B4*C4,2) -> 0
D5: =ROUND(B5*C5,2) -> 0
D6: =ROUND(B6*C6,2) -> 0
D7: =ROUND(B7*C7,2) -> 0
D8: =ROUND(B8*C8,2) -> 0
D9: =ROUND(B9*C9,2) -> 0
C10: State Total | D10: =ROUND(SUM(D4:D9),2) -> 0 | F10: If you need to insert rows, insert them between existing rows that total up to the formula in column D
A12: Supply Items | D12: =ROUND(B12*C12,2) -> 0
A13: Supply Items | D13: =ROUND(B13*C13,2) -> 0
C14: NON-State Total | D14: =ROUND(SUM(D11:D13),2) -> 0 | F14: If you need to insert rows, insert them between existing rows that total up to the formula in column D
B16: Total Supplies | D16: =+D10+D14 -> 0 | F16: This rows adds State & Non-State Totals
A18: Supplies Narrative (State): | F18: Give a brief description of items that you are claiming
A21: Supplies Narrative (Non-State) i.e. "Match" or "Other Funding" | F21: Give a brief description of items that you are claiming

Sheet Contractual Services
A1: Section C - Budget Worksheet & Narrative | C1: =+'Section A'!B2 -> 0
A2: 6). Contractual Services (2 CFR 200.318) & Subawards (200.92) -- Provide a description of the product or service to be procured by contract and an estimate of the cost. Applicants are encouraged to promote free and open competition in awarding contracts. A separate justification must be provided for sole contracts in excess of $150,000 (See 2 CFR 200.88). NOTE : this budget category may include subawards. Provide separate budgets for each subaward or contract, regardless of the dollar value and indicate the basis for the cost estimates in the narrative. Describe products or services to be obtained and indicate the applicability or necessity of each to the project.
A3: Please also note the differences between subaward, contract, and contractor (vendor):
A4: 1) Subaward (200.92) means an award provided by a pass-through entity to a subrecipient for the subrecipient to carry out part of a Federal/State award, including a portion of the scope of work or objectives. It does not include payments to a contractor or payments to an individual that is a beneficiary of a Federal/State program. 2) Contract (200.22) means a legal instrument by which a non-Federal entity purchases property or services needed to carry out the project or program under a Federal award. The term as used in this part does not include a legal instrument, even if the non-Federal entity considers it a contract, when the substance of the transaction meets the definition of a Federal award or subaward. 3) "Vendor" or "Contractor" is generally a dealer, distributor or other seller that provides supplies, expendable materials, or data processing services in support of the project activities.
A6: Item | C6: Contractual Services Cost
A8: Item | C8: 0
A9: Item | C9: 0
A10: Item | C10: 0
A11: Item | C11: 0
B12: State Total | C12: =ROUND(SUM(C8:C11),2) -> 0 | E12: If you need to insert rows, insert them between existing rows that total up to the formula in column C
A14: Item | C14: 0
A15: Item | C15: 0
B16: NON-State Total | C16: =ROUND(SUM(C13:C15),2) -> 0 | E16: If you need to insert rows, insert them between existing rows that total up to the formula in column C
B18: Total Contractual Services | C18: =+C12+C16 -> 0 | E18: This rows adds State & Non-State Totals
A20: Contractual Services Narrative (State): | E20: Give a brief description of items that you are claiming
A23: Contractual Services Narrative (Non-State) i.e. "Match" or "Other Funding" | E23: Give a brief description of items that you are claiming

Sheet Consultant
A1: Section C - Budget Worksheet & Narrative | G1: =+'Section A'!B2 -> 0
A2: 7). Consultant Services and Expenses (2 CFR 200.459)-- Consultant Services (Fees): For each consultant enter the name, if known, service to be provided, hourly or daily fee (8-hour day), and estimated time on the project. Consultant Expenses: List all expenses to be paid from the grant to the individual consultant in addition to their fees (i.e., travel, meals, lodging, etc.) Consultant-- Indicate whether applicant's formal, written Procurement Policy or the Federal Acquisitions Policy is used.
A3: Consultant Services (Fees) | B3: Services Provided | D3: Fee | E3: Basis | F3: Quantity | G3: Consultant Services (Fee) Cost
A4: Consultant Services (Fees) | B4: Service Provided | G4: =ROUND(+D4*F4,2) -> 0
A5: Consultant Services (Fees) | B5: Service Provided | G5: =ROUND(+D5*F5,2) -> 0
F6: State Total | G6: =ROUND(SUM(G4:G5),2) -> 0 | I6: If you need to insert rows, insert them between existing rows that total up to the formula in column G
A8: Consultant Services (Fees) | B8: Service Provided | G8: =ROUND(+D8*F8,2) -> 0
A9: Consultant Services (Fees) | B9: Service Provided | G9: =ROUND(+D9*F9,2) -> 0
F10: NON-State Total | G10: =ROUND(SUM(G7:G9),2) -> 0 | I10: If you need to insert rows, insert them between existing rows that total up to the formula in column G
F12: Total Consultant Services (Fees) | G12: =+G10+G6 -> 0
A14: Consultant Services Narrative (State): | I14: Give a brief description of items that you are claiming
A17: Consultant Services Narrative (Non-State) i.e. "Match" or "Other Funding" | I17: Give a brief description of items that you are claiming
A20: Consultant Expenses - Item | B20: Location | C20: Cost Rate | D20: Basis | E20: Quantity | F20: # of Trips
A21: Consultant Expenses | B21: Location | G21: =ROUND(C21*E21*F21,2) -> 0
A22: Consultant Expenses | B22: Location | G22: =ROUND(C22*E22*F22,2) -> 0
F23: State Total | G23: =ROUND(SUM(G21:G22),2) -> 0 | I23: If you need to insert rows, insert them between existing rows that total up to the formula in column G
A25: Consultant Expenses | B25: Location | G25: =ROUND(C25*E25*F25,2) -> 0
A26: Consultant Expenses | B26: Location | G26: =ROUND(C26*E26*F26,2) -> 0
F27: NON-State Total | G27: =ROUND(SUM(G24:G26),2) -> 0 | I27: If you need to insert rows, insert them between existing rows that total up to the formula in column G
F29: Total Consultant Expenses | G29: =+G27+G23 -> 0
A31: Consultant Expenses Narrative (State): | I31: Give a brief description of items that you are claiming
A34: Consultant Expenses Narrative (Non-State) i.e. "Match" or "Other Funding" | I34: Give a brief description of items that you are claiming

Sheet Construction 
A1: Section C - Budget Worksheet & Narrative | C1: =+'Section A'!B2 -> 0
A2: 8). Construction-- Provide a description of the construction project and an estimate of the costs. As a rule, construction costs are not allowable unless with prior written approval. In some cases, minor repairs or renovations may be allowable. Consult with the program office before budgeting funds in this category. Estimated construction costs must be supported by documentation including drawings and estimates, formal bids, etc. As with all other costs, follow the specific requirements of the program, the terms and conditions of the award, and applicable regulations.
A3: Purpose | B3: Description of Work | C3: Construction Cost
A4: Purpose | B4: Description of Work | C4: 0 | E4: Consult with Program Office before budgeting Construction costs.
A5: Purpose | B5: Description of Work | C5: 0 | E5: Consult with Program Office before budgeting Construction costs.
B6: State Total | C6: =ROUND(SUM(C4:C5),2) -> 0 | E6: If you need to insert rows, insert them between existing rows that total up to the formula in column C
A8: purpose | B8: description | C8: 0
A9: purpose | B9: description | C9: 0
B10: NON-State Total | C10: =ROUND(SUM(C7:C9),2) -> 0 | E10: If you need to insert rows, insert them between existing rows that total up to the formula in column C
B12: Total Construction | C12: =+C10+C6 -> 0 | E12: This rows adds State & Non-State Totals
A14: Construction Narrative (State): | E14: Give a brief description of items that you are claiming
A17: Construction Narrative (Non-State) i.e. "Match" or "Other Funding" | E17: Give a brief description of items that you are claiming

Sheet Occupancy 
A1: Section C - Budget Worksheet & Narrative | F1: =+'Section A'!B2 -> 0
A2: 9). Occupancy -Rent and Utilities (2 CFR 200.465)-- List items and descriptions by major type and the basis of the computation. Explain how rental and utility expenses are allocated for distribution as an expense to the program/service. For example, provide the square footage and the cost per square foot rent and utility, and provide a monthly rental and utility cost and how many months to rent. NOTE: This budgetary line item is to be used for direct program rent and utilities, all other indirect or administrative occupancy costs should be listed in the indirect expense section of the Budget worksheet and narrative. Maintenance and repair costs may be included here if directly allocated to program.
A4: Description | B4: Quantity | C4: Basis | D4: Cost | E4: Length of time | F4: Occupancy Cost | H4: Length of time=# of units of Basis
F5: =ROUND(+B5*D5*E5,2) -> 0
F6: =ROUND(+B6*D6*E6,2) -> 0
F7: =ROUND(+B7*D7*E7,2) -> 0
E8: State Total | F8: =ROUND(SUM(F5:F7),2) -> 0 | H8: If you need to insert rows, insert them between existing rows that total up to the formula in column F
A10: description | F10: =ROUND(+B10*D10*E10,2) -> 0
A11: description | F11: =ROUND(+B11*D11*E11,2) -> 0
E12: NON-State Total | F12: =ROUND(SUM(F9:F11),2) -> 0 | H12: If you need to insert rows, insert them between existing rows that total up to the formula in column F
E14: Total Occupancy | F14: =+F12+F8 -> 0 | H14: This rows adds State & Non-State Totals
A16: Occupancy Narrative (State): | H16: Give a brief description of items that you are claiming
A19: Occupancy Narrative (Non-State) i.e. "Match" or "Other Funding" | H19: Give a brief description of items that you are claiming

Sheet R & D 
A1: Section C - Budget Worksheet & Narrative | C1: =+'Section A'!B2 -> 0
A2: 10). Research & Development (R&D) (2 CFR 200.87)-- Definition: All research activities, both basic and applied, and all development activities that are performed by non-Federal entities directed toward the production of useful materials, devices, systems, or methods, including design and development of prototypes and processes. Provide a description of the research and development project and an estimate of the costs. NOTE: Consult with the program office before budgeting funds in this category.
A3: Purpose | B3: Description of Work | C3: Research & Development Cost
A4: Purpose | B4: Description of Work | C4: 0
A5: Purpose | B5: Description of Work | C5: 0
B6: State Total | C6: =ROUND(SUM(C4:C5),2) -> 0 | E6: If you need to insert rows, insert them between existing rows that total up to the formula in column C
A8: purpose | B8: description of work | C8: 0
A9: purpose | B9: description of work | C9: 0
B10: NON-State Total | C10: =ROUND(SUM(C7:C9),2) -> 0 | E10: If you need to insert rows, insert them between existing rows that total up to the formula in column C
B12: Total R & D | C12: =+C10+C6 -> 0 | E12: This rows adds State & Non-State Totals
A14: R & D Narrative (State): | E14: Give a brief description of items that you are claiming
A17: R & D Narrative (Non-State) i.e. "Match" or "Other Funding" | E17: Give a brief description of items that you are claiming

Sheet Telecommunications 
A1: Section C - Budget Worksheet & Narrative | F1: =+'Section A'!B2 -> 0
A2: 11). Telecommunications -- List items and descriptions by major type and the basis of the computation. Explain how telecommunication expenses are allocated for distribution as an expense to the program/service. NOTE: This budgetary line item is to be used for direct program telecommunications, all other indirect or administrative telecommunication costs should be listed in the indirect expense section of the Budget worksheet and narrative.
A4: Description | B4: Quantity | C4: Basis | D4: Cost | E4: Length of time | F4: Telecommunications Cost
F5: =ROUND(+B5*D5*E5,2) -> 0
F6: =ROUND(+B6*D6*E6,2) -> 0
F7: =ROUND(+B7*D7*E7,2) -> 0
E8: State Total | F8: =ROUND(SUM(F5:F7),2) -> 0 | H8: If you need to insert rows, insert them between existing rows that total up to the formula in column F
A10: description | F10: =ROUND(+B10*D10*E10,2) -> 0
A11: description | F11: =ROUND(+B11*D11*E11,2) -> 0
E12: NON-State Total | F12: =ROUND(SUM(F9:F11),2) -> 0 | H12: If you need to insert rows, insert them between existing rows that total up to the formula in column F
C14: Total Telecommunications | F14: =+F12+F8 -> 0 | H14: This rows adds State & Non-State Totals
A16: Telecommunications Narrative (State): | H16: Give a brief description of items that you are claiming
A19: Telecommunications Narrative (Non-State) i.e. "Match" or "Other Funding" | H19: Give a brief description of items that you are claiming

Sheet Training & Education
A1: Section C - Budget Worksheet & Narrative | F1: =+'Section A'!B2 -> 0
A2: 12). Training and Education (2 CFR 200.472) -- Describe the training and education cost associated with employee development. Include rental space for training (if required), training materials, speaker fees, substitute teacher fees, and any other applicable expenses related to the training. When training materials (pamphlets, notebooks, videos, and other various handouts) are ordered for specific training activities, these items should be itemized below.
A4: Description | B4: Quantity | C4: Basis | D4: Cost | E4: Length of time | F4: Training & Education Cost | H4: Length of time=# of units of Basis
F5: =ROUND(+B5*D5*E5,2) -> 0
F6: =ROUND(+B6*D6*E6,2) -> 0
F7: =ROUND(+B7*D7*E7,2) -> 0
E8: State Total | F8: =ROUND(SUM(F5:F7),2) -> 0 | H8: If you need to insert rows, insert them between existing rows that total up to the formula in column F
A10: description | F10: =ROUND(+B10*D10*E10,2) -> 0
A11: description | F11: =ROUND(+B11*D11*E11,2) -> 0
E12: NON-State Total | F12: =ROUND(SUM(F9:F11),2) -> 0 | H12: If you need to insert rows, insert them between existing rows that total up to the formula in column F
C14: Total Training & Education | F14: =+F12+F8 -> 0 | H14: This rows adds State & Non-State Totals
A16: Training & Education Narrative (State): | H16: Give a brief description of items that you are claiming
A19: Training & Education Narrative (Non-State) i.e. "Match" or "Other Funding" | H19: Give a brief description of items that you are claiming

Sheet Direct Administrative 
A1: Section C - Budget Worksheet & Narrative | G1: =+'Section A'!B2 -> 0
A2: 13). Direct Administrative Costs - (2 CFR 200.413 (c) The salaries of administrative and clerical staff should normally be treated as indirect (F&A) costs. Direct charging of these costs may be appropriate only if all of the following conditions are met: (1) Administrative or clerical services are integral to a project or activity; (2) Individuals involved can be specifically identified with the project or activity; (3) Such costs are explicitly included in the budget or have the prior written approval of the State awarding agency; and (4) The costs are not also recovered as indirect costs.
A4: Name | B4: Position | C4: Salary or Wage | D4: Basis (Yr./Mo./Hr.) | E4: % of Time | F4: Length of time | G4: Direct Administrative Cost | I4: Length of time=# of units of Basis
G5: =ROUND(+C5*E5*F5,2) -> 0
G6: =ROUND(+C6*E6*F6,2) -> 0
F7: State Total | G7: =ROUND(SUM(G5:G6),2) -> 0 | I7: If you need to insert rows, insert them between existing rows that total up to the formula in column G
A9: name | B9: postion | G9: =ROUND(+C9*E9*F9,2) -> 0
A10: name | B10: position | G10: =ROUND(+C10*E10*F10,2) -> 0
F11: NON-State Total | G11: =ROUND(SUM(G8:G10),2) -> 0 | I11: If you need to insert rows, insert them between existing rows that total up to the formula in column G
D13: Total Direct Administrative Costs | G13: =+G11+G7 -> 0 | I13: This rows adds State & Non-State Totals
A15: Direct Administrative Narrative (State): | I15: Give a brief description of items that you are claiming
A18: Direct Administrative Narrative (Non-State) i.e. "Match" or "Other Funding" | I18: Give a brief description of items that you are claiming

Sheet Miscellaneous (other) Costs 
A1: Section C - Budget Worksheet & Narrative | F1: =+'Section A'!B2 -> 0
A2: 14). Other or Miscellaneous Costs --This category contains items not included in the previous categories. List items by type of material or nature of expense, break down costs by quantity and cost per unit if applicable, state the necessity of other costs for successful completion of the project and exclude unallowable costs (e.g.. Printing, Memberships & subscriptions, recruiting costs, etc.)
A4: Description | B4: Quantity | C4: Basis | D4: Cost | E4: Length of time | F4: Other or Miscellaneous Cost | H4: Length of time=# of units of Basis
A5: Description | F5: =ROUND(+B5*D5*E5,2) -> 0
A6: Description | F6: =ROUND(+B6*D6*E6,2) -> 0
A7: Description | F7: =ROUND(+B7*D7*E7,2) -> 0
A8: Description | F8: =ROUND(+B8*D8*E8,2) -> 0
E9: State Total | F9: =ROUND(SUM(F5:F8),2) -> 0 | H9: If you need to insert rows, insert them between existing rows that total up to the formula in column F
A11: description | F11: =ROUND(+B11*D11*E11,2) -> 0
A12: description | F12: =ROUND(+B12*D12*E12,2) -> 0
E13: NON-State Total | F13: =ROUND(SUM(F10:F12),2) -> 0 | H13: If you need to insert rows, insert them between existing rows that total up to the formula in column F
C15: Total Other Costs | F15: =+F13+F9 -> 0 | H15: This rows adds State & Non-State Totals
A17: Other Costs Narrative (State): | H17: Give a brief description of items that you are claiming
A20: Other Cost Narrative (Non-State) i.e. "Match" or "Other Funding" | H20: Give a brief description of items that you are claiming

Sheet Direct Training
A1: Section C - Budget Worksheet & Narrative | F1: =+'Section A'!B2 -> 0
A2: 15A). RR Direct Training Costs: Training expenditures for individuals that lead to jobs in demand occupations consistent with participant IEPs.
A4: Description | B4: Quantity | C4: Basis | D4: Cost | E4: Length of time | F4: Direct Training Cost | H4: Length of time=# of units of Basis
A5: Direct Training - ITAs | F5: =ROUND(+B5*D5*E5,2) -> 0
A6: Direct Training - Other | F6: =ROUND(+B6*D6*E6,2) -> 0
F7: =ROUND(+B7*D7*E7,2) -> 0
F8: =ROUND(+B8*D8*E8,2) -> 0
E9: State Total | F9: =ROUND(SUM(F5:F8),2) -> 0 | H9: If you need to insert rows, insert them between existing rows that total up to the formula in column F
A11: description | F11: =ROUND(+B11*D11*E11,2) -> 0
A12: description | F12: =ROUND(+B12*D12*E12,2) -> 0
E13: NON-State Total | F13: =ROUND(SUM(F10:F12),2) -> 0 | H13: If you need to insert rows, insert them between existing rows that total up to the formula in column F
C15: Total Direct Training | F15: =+F13+F9 -> 0 | H15: This rows adds State & Non-State Totals
A17: Direct Training Narrative (State): | H17: Give a brief description of items that you are claiming
A18: Provide a detailed narrative explaining all Direct Training costs, consistent with local policy.
A20: GRANT EXCLUSIVE LINE ITEM Narrative (Non-State) i.e. "Match" or "Other Funding" | H20: Give a brief description of items that you are claiming

Sheet Work-Based
A1: Section C - Budget Worksheet & Narrative | F1: =+'Section A'!B2 -> 0
A2: 15B). RR Work-Based Training: Includes on-the-job training, customized training and transitional jobs as outlined at 20 CFR 680.700 through 680.840. Although work experience/internships are individualized career services, they are being included in this line item due to the Illinois Workforce Innovation Board Training Expenditures Requirement policy. Incumbent worker is now served by Rapid Reponse Work-Based Training, please see tab 15E.
A4: Description | B4: Quantity | C4: Basis | D4: Cost | E4: Length of time | F4: Work-Based Training Cost | H4: Length of time=# of units of Basis
A5: On the Job Training | F5: =ROUND(+B5*D5*E5,2) -> 0
A6: Customized Training | F6: =ROUND(+B6*D6*E6,2) -> 0
A7: Work Experience / Internships | F7: =ROUND(+B7*D7*E7,2) -> 0
A8: Transitional Jobs | F8: =ROUND(+B8*D8*E8,2) -> 0
A9: Other WBT | F9: =ROUND(+B9*D9*E9,2) -> 0
F10: =ROUND(+B10*D10*E10,2) -> 0
E11: State Total | F11: =ROUND(SUM(F5:F10),2) -> 0 | H11: If you need to insert rows, insert them between existing rows that total up to the formula in column F
A13: description | F13: =ROUND(+B13*D13*E13,2) -> 0
A14: description | F14: =ROUND(+B14*D14*E14,2) -> 0
E15: NON-State Total | F15: =ROUND(SUM(F12:F14),2) -> 0 | H15: If you need to insert rows, insert them between existing rows that total up to the formula in column F
E17: Total Work-Based Training | F17: =+F15+F11 -> 0 | H17: This rows adds State & Non-State Totals
A19: Work-Based Training Narrative (State): | H19: Give a brief description of items that you are claiming
A20: Provide a detailed narrative explaining all Work-Based Training costs detailed above, consistent with local policy.
A22: GRANT EXCLUSIVE LINE ITEM Narrative (Non-State) i.e. "Match" or "Other Funding" | H22: Give a brief description of items that you are claiming

Sheet Other Program
A1: Section C - Budget Worksheet & Narrative | F1: =+'Section A'!B2 -> 0
A2: 15C). RR Other Program costs: All other program costs related to providing services not elsewhere classified, such as telecommunications, supplies, printing, outreach and recruitment, program staff travel, occupancy, staff training and education, participant safety training, pre-enrollment qualifier costs, etc.
A4: Description | B4: Quantity | C4: Basis | D4: Cost | E4: Length of time | F4: Other Program Cost | H4: Length of time=# of units of Basis
F5: =ROUND(+B5*D5*E5,2) -> 0
F6: =ROUND(+B6*D6*E6,2) -> 0
F7: =ROUND(+B7*D7*E7,2) -> 0
F8: =ROUND(+B8*D8*E8,2) -> 0
E9: State Total | F9: =ROUND(SUM(F5:F8),2) -> 0 | H9: If you need to insert rows, insert them between existing rows that total up to the formula in column F
A11: description | F11: =ROUND(+B11*D11*E11,2) -> 0
A12: description | F12: =ROUND(+B12*D12*E12,2) -> 0
E13: NON-State Total | F13: =ROUND(SUM(F10:F12),2) -> 0 | H13: If you need to insert rows, insert them between existing rows that total up to the formula in column F
C15: Total Other Program costs | F15: =+F13+F9 -> 0 | H15: This rows adds State & Non-State Totals
A17: Other Program costs Narrative (State): | H17: Give a brief description of items that you are claiming
A18: Provide a detailed narrative explaining all Other Program costs:
A20: GRANT EXCLUSIVE LINE ITEM Narrative (Non-State) i.e. "Match" or "Other Funding" | H20: Give a brief description of items that you are claiming

Sheet Supportive
A1: Section C - Budget Worksheet & Narrative | F1: =+'Section A'!B2 -> 0
A2: 15D). Supportive Services: Supportive services are a broad range of services that help ensure individuals can participate in employment and training activities and Disaster Relief Employment. Supportive service delivery must comply with any state and local supportive service policies. These services may include but are not limited to: purchase and provision of items necessary for participants to perform Disaster Relief Employment and to participate in training and work-based training; assistance with child/dependent care and transportation; emergency assistance, and payments and fees for employment and training-related applications, tests, and certifications.
A4: Description | B4: Quantity | C4: Basis | D4: Cost | E4: Length of time | F4: Supportive Service Cost | H4: Length of time=# of units of Basis
F5: =ROUND(+B5*D5*E5,2) -> 0
F6: =ROUND(+B6*D6*E6,2) -> 0
F7: =ROUND(+B7*D7*E7,2) -> 0
F8: =ROUND(+B8*D8*E8,2) -> 0
E9: State Total | F9: =ROUND(SUM(F5:F8),2) -> 0 | H9: If you need to insert rows, insert them between existing rows that total up to the formula in column F
A11: description | F11: =ROUND(+B11*D11*E11,2) -> 0
A12: description | F12: =ROUND(+B12*D12*E12,2) -> 0
E13: NON-State Total | F13: =ROUND(SUM(F10:F12),2) -> 0 | H13: If you need to insert rows, insert them between existing rows that total up to the formula in column F
E15: Total Supportive Services | F15: =+F13+F9 -> 0 | H15: This rows adds State & Non-State Totals
A17: Supportive Services Narrative (State): | H17: Give a brief description of items that you are claiming
A18: Provide a detailed narrative explaining all Supportive Services costs, consistent with local policy:
A20: GRANT EXCLUSIVE LINE ITEM Narrative (Non-State) i.e. "Match" or "Other Funding" | H20: Give a brief description of items that you are claiming

Sheet Incumbent 
A1: Section C - Budget Worksheet & Narrative | F1: =+'Section A'!B2 -> 0
A2: 15E). Incumbent Worker Training: Training to workers having an established employment history with the employer for six (6) months or more. Training must be conducted with a commitment by the employer to retain or avert the layoffs of the incumbent worker(s) trained (20 CFR 680.790)
A4: Description | B4: Quantity | C4: Basis | D4: Cost | E4: Length of time | F4: Supportive Service Cost | H4: Length of time=# of units of Basis
F5: =ROUND(+B5*D5*E5,2) -> 0
F6: =ROUND(+B6*D6*E6,2) -> 0
F7: =ROUND(+B7*D7*E7,2) -> 0
F8: =ROUND(+B8*D8*E8,2) -> 0
E9: State Total | F9: =ROUND(SUM(F5:F8),2) -> 0 | H9: If you need to insert rows, insert them between existing rows that total up to the formula in column F
A11: description | F11: =ROUND(+B11*D11*E11,2) -> 0
A12: description | F12: =ROUND(+B12*D12*E12,2) -> 0
E13: NON-State Total | F13: =ROUND(SUM(F10:F12),2) -> 0 | H13: If you need to insert rows, insert them between existing rows that total up to the formula in column F
E15: Total Incumbent Worker | F15: =+F13+F9 -> 0 | H15: This rows adds State & Non-State Totals
A17: Incumbent Worker Narrative (State): | H17: Give a brief description of items that you are claiming
A20: GRANT EXCLUSIVE LINE ITEM Narrative (Non-State) i.e. "Match" or "Other Funding" | H20: Give a brief description of items that you are claiming

Sheet Trade
A1: Section C - Budget Worksheet & Narrative | F1: =+'Section A'!B2 -> 0
A2: 15F). Trade Other Case Management: Other costs associated with the provision of employment and case management services including the share of the One-Stop Infrastructure and Shared Costs as defined by the Workforce Innovation and Opportunity Act (WIOA).
