Workbook
Name OLE_LINK1: 'Agency Approval'!#REF!
Name OLE_LINK2: 'Agency Approval'!#REF!
Name OLE_LINK4: 'General Instructions'!#REF!

Sheet General Instructions
B1: State of Illinois -- Uniform Budget Template -- General Instructions
B3: This form is used to apply to individual State of Illinois discretionary grant programs. Applicants should submit budgets based upon the total estimated costs for the project including all funding sources. Pay attention to applicable program specific instructions, if attached. The applicant organization should refer to 2 CFR 200, “Uniform Administrative Requirements, Cost Principles, and Audit Requirements for Federal Awards” cited within these instructions.
B5: You must consult with your Business Office prior to submitting this form for any award restrictions, limitations or requirements when filling out the narrative and Uniform Budget Template.
B6: Section A – Budget Summary
B7: STATE OF ILLINOIS FUNDS
B8: All applicants must complete Section A and provide a break-down by the applicable budget categories shown in lines 1-17. Please read all instructions before completing form.
B9: STATE OF ILLINOIS GRANT FUNDS
B10: Provide a total requested State of Illinois Grant amount for each year in the Revenue portion of Section A. The amount entered in Line (a) will equal the total amount budgeted on Line 18 of Section A.
B11: BUDGET SUMMARY – STATE OF ILLINOIS FUNDS
B12: All applicants must complete Section A and provide a break-down by the applicable budget categories shown in lines 1-17.
B14: Line 18: Show the total budget request for each fiscal year for which funding is requested.
B16: Please use detail worksheet and narrative section for further descriptions and explanations of budgetary line items
... B96: 1540 - EMPLOYER INCENTIVES: Expenditures associated with one-time incentives to new employers, joint labor-management organizations, or industry associations to directly fund new or expand existing RAPs in targeted industries in which they are serving

Sheet Section A
A1: STATE OF ILLINOIS | B1: UNIFORM GRANT BUDGET TEMPLATE | E1: Commerce & Economic Opportunity
A2: Organization Name: | C2: UEI# | E2: NOFO # | G2: Please type in the light blue highlighted cells
A3: CSFA Number: | B3: 420-30-3163 | C3: CSFA Description: | D3: State Apprenticeship Expansion Program | E3: Fiscal Year: | F3: 2025
A4: S E C T I O N A -- STATE OF ILLINOIS FUNDS | E4: Grant #
A5: Revenues | E5: TOTAL REVENUE
A6: (a). State of Illinois Grant Amount Requested | E6: =+E38 -> 0
A7: BUDGET SUMMARY STATE OF ILLINOIS FUNDS
A8: Budget Expenditure Categories | C8: OMB Uniform Guidance Federal Awards Reference 2 CFR 200 | E8: TOTAL EXPENDITURES
A9: 1001. Personnel (Salaries & Wages) | C9: 200.43 | E9: =+Personnel!G136 -> 0
A10: 1002. Fringe Benefits | C10: 200.431 | E10: =+'Fringe Benefits'!E135 -> 0
A11: 1003. Travel | C11: 200.474 | E11: =+Travel!G135 -> 0
A12: 1004. Equipment | C12: 200.439 | E12: =+'Equipment '!D135 -> 0
A13: 1005. Supplies | C13: 200.94 | E13: =+Supplies!D134 -> 0
A14: 1006. Contractual Services & Subawards | C14: 200.318 & 200.92 | E14: =+'Contractual Services'!C137 -> 0
A15: 1007. Consultant (Professional Services) | C15: 200.459 | E15: =+Consultant!G407+Consultant!G134 -> 0
A16: 8. Construction | E16: =+'Construction '!C134 -> 2167334
A17: 1009. Occupancy (Rent & Utilities) | C17: 200.465 | E17: =+'Occupancy '!F135 -> 0
A18: 1010. Research & Development (R&D) | C18: 200.87 | E18: =+'R & D '!C134 -> 0
A19: 1011. Telecommunications | E19: =+'Telecommunications '!F135 -> 0
A20: 1012. Training & Education | C20: 200.472 | E20: =+'Training & Education'!F135 -> 0
A21: 1013. Direct Administrative costs | C21: 200.413 ( c) | E21: =+'Direct Administrative '!G135 -> 0
A22: 1014. Miscellaneous Costs | E22: =+'Miscellaneous (other) Costs '!F135 -> 0
A23: =+'Related Instruction'!$A$2&'Related Instruction'!$B$2 -> 1510Related Instruction | E23: =+'Related Instruction'!F$136 -> 0
A24: =+'Work Based'!$A$2&'Work Based'!$B$2 -> 1520Work-Based Training | E24: =+'Work Based'!F$136 -> 0
A25: =+'Supportive Services'!$A$2&'Supportive Services'!$B$2 -> 1530Supportive Services | E25: =+'Supportive Services'!F$136 -> 0
A26: =+'Employer Incentives'!$A$2&'Employer Incentives'!$B$2 -> 1540Employer Incentives | E26: =+'Employer Incentives'!F$136 -> 0
A27: =+'15E'!$A$2&'15E'!$B$2 -> 15E.GRANT EXCLUSIVE LINE ITEM | E27: =+'15E'!F$136 -> 21809758
A28: =+'15F'!$A$2&'15F'!$B$2 -> 15F.GRANT EXCLUSIVE LINE ITEM | E28: =+'15F'!F$136 -> 20110540
A29: =+'15G'!$A$2&'15G'!$B$2 -> 15G.GRANT EXCLUSIVE LINE ITEM | E29: =+'15G'!F$136 -> 20299344
A30: =+'15H'!$A$2&'15H'!$B$2 -> 15H.GRANT EXCLUSIVE LINE ITEM | E30: =+'15H'!F$136 -> 20320748
A31: =+'15I'!$A$2&'15I'!$B$2 -> 15I.GRANT EXCLUSIVE LINE ITEM | E31: =+'15I'!F$136 -> 17057927
A32: =+'15J'!$A$2&'15J'!$B$2 -> 15J.GRANT EXCLUSIVE LINE ITEM | E32: =+'15J'!F$136 -> 22114975
A33: =+'15K'!$A$2&'15K'!$B$2 -> 15K.GRANT EXCLUSIVE LINE ITEM | E33: =+'15K'!F$136 -> 13736307
A34: 16. Total Direct Costs (lines 1-15) | C34: 200.413 | E34: =SUBTOTAL(109,E9:F33) -> 0
A35: 17. Indirect Costs* (see below) | C35: 200.414 | E35: =+'Indirect Costs '!D8 -> 0
A36: Rate:
A37: Base:
A38: 18. Total Costs State Grant Funds (16 &17) | E38: =(E34+E35) -> 0

Sheet ICI
B1: Organization Name: | F1: =+'Section A'!B2 -> 0 | M1: NOFO # | O1: =+'Section A'!F2 -> 0
B2: SECTION - A (continued) Indirect Cost Rate Information
C3: If your organization is requesting reimbursement for indirect costs on line 17 of the Budget Summary, please select one of the following options.
B5: 1) | E5: Our Organization receives direct Federal funding and currently has a Negotiated Indirect Cost Rate Agreement (NICRA) with our Federal Cognizant Agency. A copy of this agreement will be provided to the State of Illinois’ Indirect Cost Unit for review and documentation before reimbursement is allowed. This NICRA will be accepted by all State of Illinois Agencies up to any statutory, rule-based or programmatic restrictions or limitations. | T5: To select an option - highlight the box and drop down the shape fill box on the drawing tools ribbon. you can either select a fill color or you can fill with texture, choose more textures and pick a checkmark from clipart.
E6: NOTE: (If this option is selected, please provide basic Negotiated Indirect Cost Rate Agreement information in area designated below)
B8: Your Organization may not have a Federally Negotiated Indirect Cost Rate Agreement. Therefore, in order for your Organization to be reimbursed for Indirect Costs from the State of Illinois, your Organization must either: | T8: Complete the Negotiated Indirect Cost Rate Agreement information below if Option (1) or (2a) is selected
C9: A. | D9: Negotiate an Indirect Cost Rate with the State of Illinois’ Indirect Cost Unit with guidance from your State Cognizant Agency on an annual basis.
C10: B. | D10: Elect to use the de minimis rate of 15% modified total direct cost (MTDC) which may be used indefinitely on State of Illinois Awards.
C11: C. | D11: Use a Restricted Rate designated by programmatic or statutory policy. (See Notice of Funding Opportunity for Restricted Rate Programs)
B13: 2a) | E13: Our Organization currently has a Negotiated Indirect Cost Rate Agreement with the State of Illinois that will be accepted by all State of Illinois Agencies up to any statutory, rule-based or programmatic restrictions or limitations. Our Organization is required to submit a new Indirect Cost Rate Proposal to the Indirect Cost Unit within six (6) months after the close of each fiscal year (2 CFR 200 Appendix IV (C)(2)(c).
E14: NOTE: (If this option is selected, please provide basic Indirect Cost Rate information in area designated below)
B15: 2b) | E15: Our Organization currently does not have a Negotiated Indirect Cost Rate Agreement with the State of Illinois. Our Organization will submit our initial Indirect Cost Rate Proposal (ICRP) immediately after our Organization is advised that the State award will be made and, in no event, later than three (3) months after the effective date of the State award (2 CFR 200 Appendix IV (C)(2)(b). The initial ICRP will be sent to the State of Illinois’ Indirect Cost Unit.
E16: NOTE: (Check with your State of Illinois Agency for information regarding reimbursement of indirect costs while your proposal is being negotiated)
B18: 3) | E18: Our Organization has never received a Negotiated Indirect Cost Rate Agreement from either the Federal government or the State of Illinois and elects to charge the de minimis rate of 15% modified total direct cost (MTDC) which may be used indefinitely on State of Illinois awards (2 CFR 200.414 (c)(4)(f) & (200.68).
E19: NOTE: (Your Organization must be eligible, see 2 CFR 200.414 (f), and submit documentation on the calculation of MTDC within your Budget Narrative under Indirect Costs)
B21: 4) | E21: For Restricted Rate Programs (check one) -- Our Organization is using a restricted indirect cost rate that:
E22: _____ | F22: Is included as a “Special Indirect Cost Rate” in our NICRA (2 CFR 200Appendix IV (5) Or;
E23: _____ | F23: Complies with other statutory policies (please specify):
E24: The Restricted Indirect Cost Rate is _________%
B26: 5) | E26: No reimbursement of Indirect Cost is being requested. (Please consult your program office regarding possible match requirements)
B29: Basic Negotiated Indirect Cost Rate Agreement information if Option (1) or (2a) is selected | G29: Period Covered by the NICRA: From: | K29: To: | O29: (mm/dd/yyyy)
G30: Approving Federal/State agency (please specify):
G31: The Indirect Cost Rate is: | I31: % | J31: The Distribution Base is:

Sheet Section B
A1: =+'Section A'!A1 -> STATE OF ILLINOIS | B1: =+'Section A'!B1 -> UNIFORM GRANT BUDGET TEMPLATE | C1: =+'Section A'!E1 -> Commerce & Economic Opportunity | D1: content in rows 1 to 3 & cell C4 come from Section A
A2: ="Organization Name: "&'Section A'!B2 -> Organization Name: | B2: ="NOFO # "&'Section A'!F2 -> NOFO # | C2: ="Fiscal Year "&'Section A'!F3 -> Fiscal Year 2025
A3: S E C T I O N B -- NON STATE OF ILLINOIS FUNDS | C3: ="Grant Number: "&'Section A'!F4 -> Grant Number:
A4: Revenues | C4: TOTAL REVENUE
A5: Grantee Match Requirement ________ % (Agency to populate)
A6: (b). -Cash | C6: 0
A7: (c). -Non-cash | C7: 0
A8: (d). Other Funding & Contributions | C8: 0
A9: NON-STATE Funds Total | C9: =(C6+C7+C8) -> 0
A10: BUDGET SUMMARY NON-STATE OF ILLINOIS FUNDS | D10: you should not need to type anything in below this row
A11: Budget Expenditure Categories | B11: OMB Uniform Guidance Federal Awards Reference 2 CFR 200 | C11: TOTAL EXPENDITURES
A12: 7001. Personnel (Salaries & Wages) | B12: 200.43 | C12: =+Personnel!G268 -> 0
A13: 7002. Fringe Benefits | B13: 200.431 | C13: =+'Fringe Benefits'!E267 -> 0
A14: 7003. Travel | B14: 200.474 | C14: =+Travel!G267 -> 0
A15: 7004. Equipment | B15: 200.439 | C15: =+'Equipment '!D267 -> 0
A16: 7005. Supplies | B16: 200.94 | C16: =+Supplies!D266 -> 0
A17: 7006. Contractual Services & Subawards | B17: 200.318 & 200.92 | C17: =+'Contractual Services'!C269 -> 0
A18: 7007. Consultant (Professional Services) | B18: 200.459 | C18: =+Consultant!G266+Consultant!G539 -> 0
A19: 8. Construction | C19: =+'Construction '!C266 -> 1255664.6
A20: 7009. Occupancy (Rent & Utilities) | B20: 200.465 | C20: =+'Occupancy '!F267 -> 0
A21: 7010. Research & Development (R&D) | B21: 200.87 | C21: =+'R & D '!C266 -> 0
A22: 7011. Telecommunications | C22: =+'Telecommunications '!F267 -> 0
A23: 7012. Training & Education | B23: 200.472 | C23: =+'Training & Education'!F267 -> 0
A24: 7013. Direct Administrative costs | B24: 200.413 ( c) | C24: =+'Direct Administrative '!G267 -> 0
A25: 7014. Miscellaneous Costs | C25: =+'Miscellaneous (other) Costs '!F267 -> 0
A26: ="7510 "&'Related Instruction'!$B$2 -> 7510 Related Instruction | C26: =+'Related Instruction'!F$268 -> 0
A27: ="7520 "&'Work Based'!$B$2 -> 7520 Work-Based Training | C27: =+'Work Based'!F$268 -> 0
A28: ="7530 "&'Supportive Services'!$B$2 -> 7530 Supportive Services | C28: =+'Supportive Services'!F$268 -> 0
A29: ="7540 "&'Employer Incentives'!$B$2 -> 7540 Employer Incentives | C29: =+'Employer Incentives'!F$268 -> 0
A30: =+'15E'!$A$2&'15E'!$B$2 -> 15E.GRANT EXCLUSIVE LINE ITEM | C30: =+'15E'!F$268 -> 22885047
A31: =+'15F'!$A$2&'15F'!$B$2 -> 15F.GRANT EXCLUSIVE LINE ITEM | C31: =+'15F'!F$268 -> 19714412
A32: =+'15G'!$A$2&'15G'!$B$2 -> 15G.GRANT EXCLUSIVE LINE ITEM | C32: =+'15G'!F$268 -> 17901787
A33: =+'15H'!$A$2&'15H'!$B$2 -> 15H.GRANT EXCLUSIVE LINE ITEM | C33: =+'15H'!F$268 -> 8221413.8
A34: =+'15I'!$A$2&'15I'!$B$2 -> 15I.GRANT EXCLUSIVE LINE ITEM | C34: =+'15I'!F$268 -> 12709325
A35: =+'15J'!$A$2&'15J'!$B$2 -> 15J.GRANT EXCLUSIVE LINE ITEM | C35: =+'15J'!F$268 -> 10638258
A36: =+'15K'!$A$2&'15K'!$B$2 -> 15K.GRANT EXCLUSIVE LINE ITEM | C36: =+'15K'!F$268 -> 15931181
A37: 16. Total Direct Costs (lines 1-15) | B37: 200.413 | C37: =SUBTOTAL(109,C12:C36) -> 0
A38: 17. Indirect Costs* (see below) | B38: 200.414 | C38: =+'Indirect Costs '!D14 -> 0
A39: Rate: __________ % Base:______________________
A40: 18. Total Costs NON -State Grant Funds (16 &17) | C40: =(C37+C38) -> 0

Sheet Certification 
A1: CERTIFICATION | D1: STATE OF ILLINOIS UNIFORM GRANT BUDGET TEMPLATE | G1: ="AGENCY: "&'Section B'!C1 -> AGENCY: Commerce & Economic Opportunity
A2: ="Organization Name: "&'Section A'!B2 -> Organization Name: | D2: ="CSFA Description: "&'Section A'!D3 -> CSFA Description: State Apprenticeship Expansion Program | G2: ="NOFO # "&'Section A'!F2 -> NOFO #
A3: ="CSFA #: "&'Section A'!B3 -> CSFA #: 420-30-3163 | D3: ="UEI # "&'Section A'!D2 -> UEI # | G3: ="Fiscal Year(s): "&'Section A'!F3 -> Fiscal Year(s): 2025
A5: (2 CFR 200.415)
A6: “By signing this report, I certify to the best of my knowledge and belief that the report is true, complete, and accurate and that any false, fictitious, or fraudulent information or the omission of any material fact, could result in the immediate termination of my grant award(s).
A11: Institution/Organization | E11: Institution/Organization
A14: Signature | E14: Signature
A17: Name of Official | E17: Name of Official
A20: Title | E20: Title
A21: Chief Financial Officer (or equivalent) | E21: Executive Director (or equivalent)
A23: Date of Execution | E23: Date of Execution
A27: Note: The State awarding agency may change required signers based on the grantee’s organizational structure. The required signers must have the authority to enter into contractual agreements on behalf of the organization.

Sheet Sheet1

Sheet Personnel
A1: Section C - Budget Worksheet & Narrative | G1: =+'Section A'!B2 -> 0
A2: 1). Personnel (Salaries & Wages) (2 CFR 200.430)--List each position by title and name of employee, if available. Show the annual salary rate and the percentage of time to be devoted to the project and length of time working on the project . Compensation paid for employees engaged in grant activities must be consistent with that paid for similar work within the applicant organization. Include a description of the responsibilities and duties of each position in relationship to fulfilling the project goals and objectives in the narrative space provided below. Also, provide a justification and description of each position (including vacant positions). Relate each position specifically to program objectives. Personnel cannot exceed 100% of their time on all active projects.
A5: Name | B5: Position(s) | C5: Salary or Wage | D5: Basis (Yr./Mo./Hr.) | E5: % of Time | F5: Length of time | G5: Personnel Cost | H5: Filter | J5: Length of time=# of units of Basis
G6: =ROUND(C6*E6*F6,2) -> 0 | H6: state
G7: =ROUND(C7*E7*F7,2) -> 0 | H7: state
G8: =ROUND(C8*E8*F8,2) -> 0 | H8: state
G9: =ROUND(C9*E9*F9,2) -> 0 | H9: state
G10: =ROUND(C10*E10*F10,2) -> 0 | H10: state
G11: =ROUND(C11*E11*F11,2) -> 0 | H11: state
G12: =ROUND(C12*E12*F12,2) -> 0 | H12: state
G13: =ROUND(C13*E13*F13,2) -> 0 | H13: state
G14: =ROUND(C14*E14*F14,2) -> 0 | H14: state
G15: =ROUND(C15*E15*F15,2) -> 0 | H15: state
G16: =ROUND(C16*E16*F16,2) -> 0 | H16: state
G17: =ROUND(C17*E17*F17,2) -> 0 | H17: state
... G135: =ROUND(C135*E135*F135,2) -> 0 | H135: state
F136: State Total | G136: =ROUND(SUBTOTAL(109,G6:G135),2) -> 0 | H136: state | J136: If you need to additional rows, there are rows you can unhide
H137: non-state
G138: =ROUND(C138*E138*F138,2) -> 0 | H138: non-state
G139: =ROUND(C139*E139*F139,2) -> 0 | H139: non-state
G140: =ROUND(C140*E140*F140,2) -> 0 | H140: non-state
G141: =ROUND(C141*E141*F141,2) -> 0 | H141: non-state
G142: =ROUND(C142*E142*F142,2) -> 0 | H142: non-state
G143: =ROUND(C143*E143*F143,2) -> 0 | H143: non-state
G144: =ROUND(C144*E144*F144,2) -> 0 | H144: non-state
G145: =ROUND(C145*E145*F145,2) -> 0 | H145: non-state
G146: =ROUND(C146*E146*F146,2) -> 0 | H146: non-state
G147: =ROUND(C147*E147*F147,2) -> 0 | H147: non-state
G148: =ROUND(C148*E148*F148,2) -> 0 | H148: non-state
G149: =ROUND(C149*E149*F149,2) -> 0 | H149: non-state
... G267: =ROUND(C267*E267*F267,2) -> 0 | H267: non-state
F268: NON-State Total | G268: =ROUND(SUBTOTAL(109,G137:G267),2) -> 0 | H268: non-state | J268: If you need to additional rows, there are rows you can unhide
H269: keep
F270: Total Personnel | G270: =+G268+G136 -> 0 | H270: keep | J270: This rows adds State & Non-State Totals
H271: keep
A272: Personnel Narrative (State): | H272: state | J272: Give a brief description of items that you are claiming
H273: state | J273: To add information on a new line, hold the Alt key and hit Enter. To change the row height, right click on the row number off to the left of the spreadsheet, then click on Row Height
H274: non-state
A275: Personnel Narrative (Non-State) i.e. "Match" or "Other Funding" | H275: non-state | J275: Give a brief description of items that you are claiming
H276: non-state | J276: To add information on a new line, hold the Alt key and hit Enter. To change the row height, right click on the row number off to the left of the spreadsheet, then click on Row Height

Sheet Fringe Benefits
A1: Section C - Budget Worksheet & Narrative | E1: =+'Section A'!B2 -> 0
A2: 2). Fringe Benefits (2 CFR 200.431)--Fringe benefits should be based on actual known costs or an established formula. Fringe benefits are for the personnel listed in category (1) direct salaries and wages, and only for the percentage of time devoted to the project. Provide the fringe benefit rate used and a clear description of how the computation of fringe benefits was done. Provide both the annual (for multiyear awards) and total. If a fringe benefit rate is not used, show how the fringe benefits were computed for each position. The budget justification should be reflected in the budget description. Elements that comprise fringe benefits should be indicated.
A4: Name | B4: Position(s) | C4: Base | D4: Rate | E4: Fringe Benefit Cost | F4: Filter
E5: =ROUND(C5*D5,2) -> 0 | F5: state
E6: =ROUND(C6*D6,2) -> 0 | F6: state
E7: =ROUND(C7*D7,2) -> 0 | F7: state
E8: =ROUND(C8*D8,2) -> 0 | F8: state
E9: =ROUND(C9*D9,2) -> 0 | F9: state
E10: =ROUND(C10*D10,2) -> 0 | F10: state
E11: =ROUND(C11*D11,2) -> 0 | F11: state
E12: =ROUND(C12*D12,2) -> 0 | F12: state
E13: =ROUND(C13*D13,2) -> 0 | F13: state
E14: =ROUND(C14*D14,2) -> 0 | F14: state
E15: =ROUND(C15*D15,2) -> 0 | F15: state
E16: =ROUND(C16*D16,2) -> 0 | F16: state
... E134: =ROUND(C134*D134,2) -> 0 | F134: state
D135: State Total | E135: =ROUND(SUBTOTAL(109,E5:E134),2) -> 0 | F135: state | H135: If you need additional rows, there are rows you can unhide
F136: non-state
E137: =ROUND(C137*D137,2) -> 0 | F137: non-state
E138: =ROUND(C138*D138,2) -> 0 | F138: non-state
E139: =ROUND(C139*D139,2) -> 0 | F139: non-state
E140: =ROUND(C140*D140,2) -> 0 | F140: non-state
E141: =ROUND(C141*D141,2) -> 0 | F141: non-state
E142: =ROUND(C142*D142,2) -> 0 | F142: non-state
E143: =ROUND(C143*D143,2) -> 0 | F143: non-state
E144: =ROUND(C144*D144,2) -> 0 | F144: non-state
E145: =ROUND(C145*D145,2) -> 0 | F145: non-state
E146: =ROUND(C146*D146,2) -> 0 | F146: non-state
E147: =ROUND(C147*D147,2) -> 0 | F147: non-state
E148: =ROUND(C148*D148,2) -> 0 | F148: non-state
... E266: =ROUND(C266*D266,2) -> 0 | F266: non-state
D267: NON-State Total | E267: =ROUND(SUBTOTAL(109,E136:E266),2) -> 0 | F267: non-state | H267: If you need additional rows, there are rows you can unhide
F268: keep
D269: Total Fringe Benefits | E269: =+E267+E135 -> 0 | F269: keep | H269: This rows adds State & Non-State Totals
F270: keep
A271: Fringe Benefits Narrative (State): | F271: state | H271: Give a brief description of items that you are claiming
F272: state | H272: To add information on a new line, hold the Alt key and hit Enter. To change the row height, right click on the row number off to the left of the spreadsheet, then click on Row Height
F273: non-state
A274: Fringe Benefits Narrative (Non-State) i.e. "Match" or "Other Funding" | F274: non-state | H274: Give a brief description of items that you are claiming
F275: non-state | H275: To add information on a new line, hold the Alt key and hit Enter. To change the row height, right click on the row number off to the left of the spreadsheet, then click on Row Height

Sheet Travel
A1: Section C - Budget Worksheet & Narrative | G1: =+'Section A'!B2 -> 0
A2: 3). Travel (2 CFR 200.474)-- Travel should include: origin and destination, estimated costs and type of transportation, number of travelers, related lodging and per diem costs, brief description of the travel involved, its purpose, and explanation of how the proposed travel is necessary for successful completion of the project. In training projects, travel and meals for trainees should be listed separately. Show the number of trainees and unit cost involved. Identify the location of travel, if known; or if unknown, indicate "location to be determined." Indicate source of Travel Policies applied, Applicant or State of Illinois Travel Regulations. NOTE: Dollars requested in the travel category should be for staff travel only. Travel for consultants should be shown in the consultant category along with the consultant’s fee. Travel for training participants, advisory committees, review panels and etc., should be itemized the same way as indicated above and placed in the “Miscellaneous” category.
A4: Purpose of Travel/Items | B4: Location | C4: Cost Rate | D4: Basis | E4: Quantity | F4: # of Trips | G4: Travel Cost | H4: Filter
G5: =ROUND(+C5*E5*F5,2) -> 0 | H5: state
G6: =ROUND(+C6*E6*F6,2) -> 0 | H6: state
G7: =ROUND(+C7*E7*F7,2) -> 0 | H7: state
G8: =ROUND(+C8*E8*F8,2) -> 0 | H8: state
G9: =ROUND(+C9*E9*F9,2) -> 0 | H9: state
G10: =ROUND(+C10*E10*F10,2) -> 0 | H10: state
G11: =ROUND(+C11*E11*F11,2) -> 0 | H11: state
G12: =ROUND(+C12*E12*F12,2) -> 0 | H12: state
G13: =ROUND(+C13*E13*F13,2) -> 0 | H13: state
G14: =ROUND(+C14*E14*F14,2) -> 0 | H14: state
G15: =ROUND(+C15*E15*F15,2) -> 0 | H15: state
G16: =ROUND(+C16*E16*F16,2) -> 0 | H16: state
... G134: =ROUND(+C134*E134*F134,2) -> 0 | H134: state
F135: State Total | G135: =ROUND(SUBTOTAL(109,G5:G134),2) -> 0 | H135: state | J135: If you need additional rows, there are rows you can unhide
H136: non-state
G137: =ROUND(+C137*E137*F137,2) -> 0 | H137: non-state
G138: =ROUND(+C138*E138*F138,2) -> 0 | H138: non-state
G139: =ROUND(+C139*E139*F139,2) -> 0 | H139: non-state
G140: =ROUND(+C140*E140*F140,2) -> 0 | H140: non-state
G141: =ROUND(+C141*E141*F141,2) -> 0 | H141: non-state
G142: =ROUND(+C142*E142*F142,2) -> 0 | H142: non-state
G143: =ROUND(+C143*E143*F143,2) -> 0 | H143: non-state
G144: =ROUND(+C144*E144*F144,2) -> 0 | H144: non-state
G145: =ROUND(+C145*E145*F145,2) -> 0 | H145: non-state
G146: =ROUND(+C146*E146*F146,2) -> 0 | H146: non-state
G147: =ROUND(+C147*E147*F147,2) -> 0 | H147: non-state
G148: =ROUND(+C148*E148*F148,2) -> 0 | H148: non-state
... G266: =ROUND(+C266*E266*F266,2) -> 0 | H266: non-state
F267: NON-State Total | G267: =ROUND(SUBTOTAL(109,G136:G266),2) -> 0 | H267: non-state | J267: If you need additional rows, there are rows you can unhide
H268: keep
F269: Total Travel | G269: =+G267+G135 -> 0 | H269: keep | J269: This rows adds State & Non-State Totals
H270: keep
A271: Travel Narrative (State): | H271: state | J271: Give a brief description of items that you are claiming
H272: state | J272: To add information on a new line, hold the Alt key and hit Enter. To change the row height, right click on the row number off to the left of the spreadsheet, then click on Row Height
H273: non-state
A274: Travel Narrative (Non-State) i.e. "Match" or "Other Funding" | H274: non-state | J274: Give a brief description of items that you are claiming
H275: non-state | J275: To add information on a new line, hold the Alt key and hit Enter. To change the row height, right click on the row number off to the left of the spreadsheet, then click on Row Height

Sheet Equipment 
A1: Section C - Budget Worksheet & Narrative | D1: =+'Section A'!B2 -> 0
A2: 4). Equipment (2 CFR 200.439)-- Provide justification for the use of each item and relate them to specific program objectives. Provide both the annual (for multiyear awards) and total for equipment. Equipment is defined as an article of tangible personal property that has a useful life of more than one year and a per-unit acquisition cost which equals or exceeds the lesser of the capitalization level established by the non-Federal entity for financial statement purposes, or $10,000. An applicant organization may classify equipment at a lower dollar value but cannot classify it higher than $5,000. (Note: Organization's own capitalization policy for classification of equipment can be used). Applicants should analyze the cost benefits of purchasing versus leasing equipment, especially high cost items and those subject to rapid technical advances. Rented or leased equipment costs should be listed in the "Contractual" category. Explain how the equipment is necessary for the success of the project. Attach a narrative describing the procurement method to be used.
A4: Item | B4: Quantity | C4: Cost | D4: Equipment Cost | E4: Filter
D5: =ROUND(+B5*C5,2) -> 0 | E5: state
D6: =ROUND(+B6*C6,2) -> 0 | E6: state
D7: =ROUND(+B7*C7,2) -> 0 | E7: state
D8: =ROUND(+B8*C8,2) -> 0 | E8: state
D9: =ROUND(+B9*C9,2) -> 0 | E9: state
D10: =ROUND(+B10*C10,2) -> 0 | E10: state
D11: =ROUND(+B11*C11,2) -> 0 | E11: state
D12: =ROUND(+B12*C12,2) -> 0 | E12: state
D13: =ROUND(+B13*C13,2) -> 0 | E13: state
D14: =ROUND(+B14*C14,2) -> 0 | E14: state
D15: =ROUND(+B15*C15,2) -> 0 | E15: state
D16: =ROUND(+B16*C16,2) -> 0 | E16: state
... D134: =ROUND(+B134*C134,2) -> 0 | E134: state
C135: State Total | D135: =ROUND(SUBTOTAL(109,D5:D134),2) -> 0 | E135: state | G135: If you need additional rows, there are rows you can unhide
E136: non-state
D137: =ROUND(+B137*C137,2) -> 0 | E137: non-state
D138: =ROUND(+B138*C138,2) -> 0 | E138: non-state
D139: =ROUND(+B139*C139,2) -> 0 | E139: non-state
D140: =ROUND(+B140*C140,2) -> 0 | E140: non-state
D141: =ROUND(+B141*C141,2) -> 0 | E141: non-state
D142: =ROUND(+B142*C142,2) -> 0 | E142: non-state
D143: =ROUND(+B143*C143,2) -> 0 | E143: non-state
D144: =ROUND(+B144*C144,2) -> 0 | E144: non-state
D145: =ROUND(+B145*C145,2) -> 0 | E145: non-state
D146: =ROUND(+B146*C146,2) -> 0 | E146: non-state
D147: =ROUND(+B147*C147,2) -> 0 | E147: non-state
D148: =ROUND(+B148*C148,2) -> 0 | E148: non-state
... D266: =ROUND(+B266*C266,2) -> 0 | E266: non-state
C267: NON-State Total | D267: =ROUND(SUBTOTAL(109,D136:D266),2) -> 0 | E267: non-state | G267: If you need additional rows, there are rows you can unhide
E268: keep
B269: Total Equipment | D269: =+D267+D135 -> 0 | E269: keep | G269: This rows adds State & Non-State Totals
E270: keep
A271: Equipment Narrative (State): | E271: state | G271: Give a brief description of items that you are claiming
E272: state | G272: To add information on a new line, hold the Alt key and hit Enter. To change the row height, right click on the row number off to the left of the spreadsheet, then click on Row Height
E273: non-state
A274: Equipment Narrative (Non-State) i.e. "Match" or "Other Funding" | E274: non-state | G274: Give a brief description of items that you are claiming
E275: non-state | G275: To add information on a new line, hold the Alt key and hit Enter. To change the row height, right click on the row number off to the left of the spreadsheet, then click on Row Height

Sheet Supplies
A1: Section C - Budget Worksheet & Narrative | D1: =+'Section A'!B2 -> 0 | E1: Filter
A2: 5). Supplies (2 CFR 200.94)--List items by type (office supplies, postage, training materials, copying paper, and other expendable items such as books, hand held tape recorders) and show the basis for computation. Generally, supplies include any materials that are expendable or consumed during the course of the project. | E2: keep
A3: Item | B3: Quantity/ Duration | C3: Cost | D3: Supplies Cost | E3: keep
D4: =ROUND(B4*C4,2) -> 0 | E4: keep
D5: =ROUND(B5*C5,2) -> 0 | E5: state
D6: =ROUND(B6*C6,2) -> 0 | E6: state
D7: =ROUND(B7*C7,2) -> 0 | E7: state
D8: =ROUND(B8*C8,2) -> 0 | E8: state
D9: =ROUND(B9*C9,2) -> 0 | E9: state
D10: =ROUND(B10*C10,2) -> 0 | E10: state
D11: =ROUND(B11*C11,2) -> 0 | E11: state
D12: =ROUND(B12*C12,2) -> 0 | E12: state
D13: =ROUND(B13*C13,2) -> 0 | E13: state
D14: =ROUND(B14*C14,2) -> 0 | E14: state
D15: =ROUND(B15*C15,2) -> 0 | E15: state
... D133: =ROUND(B133*C133,2) -> 0 | E133: state
C134: State Total | D134: =ROUND(SUBTOTAL(109,D4:D133),2) -> 0 | E134: state | G134: If you need additional rows, there are rows you can unhide
E135: non-state
D136: =ROUND(B136*C136,2) -> 0 | E136: non-state
D137: =ROUND(B137*C137,2) -> 0 | E137: non-state
D138: =ROUND(B138*C138,2) -> 0 | E138: non-state
D139: =ROUND(B139*C139,2) -> 0 | E139: non-state
D140: =ROUND(B140*C140,2) -> 0 | E140: non-state
D141: =ROUND(B141*C141,2) -> 0 | E141: non-state
D142: =ROUND(B142*C142,2) -> 0 | E142: non-state
D143: =ROUND(B143*C143,2) -> 0 | E143: non-state
D144: =ROUND(B144*C144,2) -> 0 | E144: non-state
D145: =ROUND(B145*C145,2) -> 0 | E145: non-state
D146: =ROUND(B146*C146,2) -> 0 | E146: non-state
D147: =ROUND(B147*C147,2) -> 0 | E147: non-state
... D265: =ROUND(B265*C265,2) -> 0 | E265: non-state
C266: NON-State Total | D266: =ROUND(SUBTOTAL(109,D135:D265),2) -> 0 | E266: non-state | G266: If you need additional rows, there are rows you can unhide
E267: keep
B268: Total Supplies | D268: =+D134+D266 -> 0 | E268: keep | G268: This rows adds State & Non-State Totals
E269: keep
A270: Supplies Narrative (State): | E270: state | G270: Give a brief description of items that you are claiming
E271: state | G271: To add information on a new line, hold the Alt key and hit Enter. To change the row height, right click on the row number off to the left of the spreadsheet, then click on Row Height
E272: non-state
A273: Supplies Narrative (Non-State) i.e. "Match" or "Other Funding" | E273: non-state | G273: Give a brief description of items that you are claiming
E274: non-state | G274: To add information on a new line, hold the Alt key and hit Enter. To change the row height, right click on the row number off to the left of the spreadsheet, then click on Row Height

Sheet Contractual Services
A1: Section C - Budget Worksheet & Narrative | C1: =+'Section A'!B2 -> 0 | D1: Filter
A2: 6). Contractual Services (2 CFR 200.318) & Subawards (200.92) -- Provide a description of the product or service to be procured by contract and an estimate of the cost. Applicants are encouraged to promote free and open competition in awarding contracts. A separate justification must be provided for sole contracts in excess of $150,000 (See 2 CFR 200.88). NOTE : this budget category may include subawards. Provide separate budgets for each subaward or contract, regardless of the dollar value and indicate the basis for the cost estimates in the narrative. Describe products or services to be obtained and indicate the applicability or necessity of each to the project. | D2: keep
A3: Please also note the differences between subaward, contract, and contractor (vendor): | D3: keep
A4: 1) Subaward (200.92) means an award provided by a pass-through entity to a subrecipient for the subrecipient to carry out part of a Federal/State award, including a portion of the scope of work or objectives. It does not include payments to a contractor or payments to an individual that is a beneficiary of a Federal/State program. 2) Contract (200.22) means a legal instrument by which a non-Federal entity purchases property or services needed to carry out the project or program under a Federal award. The term as used in this part does not include a legal instrument, even if the non-Federal entity considers it a contract, when the substance of the transaction meets the definition of a Federal award or subaward. 3) "Vendor" or "Contractor" is generally a dealer, distributor or other seller that provides supplies, expendable materials, or data processing services in support of the project activities. | D4: keep
D5: keep
A6: Item | C6: Contractual Services Cost | D6: state
C7: 0 | D7: state
C8: 0 | D8: state
C9: 0 | D9: state
C10: 0 | D10: state
C11: 0 | D11: state
C12: 0 | D12: state
C13: 0 | D13: state
C14: 0 | D14: state
C15: 0 | D15: state
C16: 0 | D16: state
C17: 0 | D17: state
C18: 0 | D18: state
... C136: 0 | D136: state
B137: State Total | C137: =ROUND(SUBTOTAL(109,C7:C136),2) -> 0 | D137: state | F137: If you need additional rows, there are rows you can unhide
D138: non-state
C139: 0 | D139: non-state
C140: 0 | D140: non-state
C141: 0 | D141: non-state
C142: 0 | D142: non-state
C143: 0 | D143: non-state
C144: 0 | D144: non-state
C145: 0 | D145: non-state
C146: 0 | D146: non-state
C147: 0 | D147: non-state
C148: 0 | D148: non-state
C149: 0 | D149: non-state
C150: 0 | D150: non-state
... C268: 0 | D268: non-state
B269: NON-State Total | C269: =ROUND(SUBTOTAL(109,C138:C268),2) -> 0 | D269: non-state | F269: If you need additional rows, there are rows you can unhide
D270: keep
B271: Total Contractual Services | C271: =+C137+C269 -> 0 | D271: keep | F271: This rows adds State & Non-State Totals
D272: keep
A273: Contractual Services Narrative (State): | D273: state | F273: Give a brief description of items that you are claiming
D274: state | F274: To add information on a new line, hold the Alt key and hit Enter. To change the row height, right click on the row number off to the left of the spreadsheet, then click on Row Height
...

Sheet Consultant
A1: Section C - Budget Worksheet & Narrative | G1: =+'Section A'!B2 -> 0 | H1: Filter
A2: 7). Consultant Services and Expenses (2 CFR 200.459)-- Consultant Services (Fees): For each consultant enter the name, if known, service to be provided, hourly or daily fee (8-hour day), and estimated time on the project. Consultant Expenses: List all expenses to be paid from the grant to the individual consultant in addition to their fees (i.e., travel, meals, lodging, etc.) Consultant-- Indicate whether applicant's formal, written Procurement Policy or the Federal Acquisitions Policy is used. | H2: keep
A3: Consultant Services (Fees) | B3: Services Provided | D3: Fee | E3: Basis | F3: Quantity | G3: Consultant Services (Fee) Cost | H3: keep
G4: =ROUND(+D4*F4,2) -> 0 | H4: state
G5: =ROUND(+D5*F5,2) -> 0 | H5: state
G6: =ROUND(+D6*F6,2) -> 0 | H6: state
G7: =ROUND(+D7*F7,2) -> 0 | H7: state
G8: =ROUND(+D8*F8,2) -> 0 | H8: state
G9: =ROUND(+D9*F9,2) -> 0 | H9: state
G10: =ROUND(+D10*F10,2) -> 0 | H10: state
G11: =ROUND(+D11*F11,2) -> 0 | H11: state
G12: =ROUND(+D12*F12,2) -> 0 | H12: state
G13: =ROUND(+D13*F13,2) -> 0 | H13: state
G14: =ROUND(+D14*F14,2) -> 0 | H14: state
G15: =ROUND(+D15*F15,2) -> 0 | H15: state
... G133: =ROUND(+D133*F133,2) -> 0 | H133: state
F134: State Total | G134: =ROUND(SUBTOTAL(109,G4:G133),2) -> 0 | H134: state | J134: If you need additional rows, there are rows you can unhide
H135: non-state
G136: =ROUND(+D136*F136,2) -> 0 | H136: non-state
G137: =ROUND(+D137*F137,2) -> 0 | H137: non-state
G138: =ROUND(+D138*F138,2) -> 0 | H138: non-state
G139: =ROUND(+D139*F139,2) -> 0 | H139: non-state
G140: =ROUND(+D140*F140,2) -> 0 | H140: non-state
G141: =ROUND(+D141*F141,2) -> 0 | H141: non-state
G142: =ROUND(+D142*F142,2) -> 0 | H142: non-state
G143: =ROUND(+D143*F143,2) -> 0 | H143: non-state
G144: =ROUND(+D144*F144,2) -> 0 | H144: non-state
G145: =ROUND(+D145*F145,2) -> 0 | H145: non-state
G146: =ROUND(+D146*F146,2) -> 0 | H146: non-state
G147: =ROUND(+D147*F147,2) -> 0 | H147: non-state
... G265: =ROUND(+D265*F265,2) -> 0 | H265: non-state
F266: NON-State Total | G266: =ROUND(SUBTOTAL(109,G135:G265),2) -> 0 | H266: non-state | J266: If you need additional rows, there are rows you can unhide
H267: keep
F268: Total Consultant Services (Fees) | G268: =+G266+G134 -> 0 | H268: keep
H269: keep
A270: Consultant Services Narrative (State): | H270: state | J270: Give a brief description of items that you are claiming
H271: state | J271: To add information on a new line, hold the Alt key and hit Enter.
H272: non-state
A273: Consultant Services Narrative (Non-State) i.e. "Match" or "Other Funding" | H273: non-state | J273: Give a brief description of items that you are claiming
H274: non-state | J274: To add information on a new line, hold the Alt key and hit Enter.
...

Sheet Construction 
A1: Section C - Budget Worksheet & Narrative | C1: =+'Section A'!B2 -> 0 | D1: Filter
A2: 8). Construction-- Provide a description of the construction project and an estimate of the costs. As a rule, construction costs are not allowable unless with prior written approval. In some cases, minor repairs or renovations may be allowable. Consult with the program office before budgeting funds in this category. Estimated construction costs must be supported by documentation including drawings and estimates, formal bids, etc. As with all other costs, follow the specific requirements of the program, the terms and conditions of the award, and applicable regulations. | D2: keep
A3: Purpose | B3: Description of Work | C3: Construction Cost | D3: keep
A4: Purpose | B4: Description of Work | C4: =RAND()*1000000 -> 741755.03 | D4: state | F4: Consult with Program Office before budgeting Construction costs.
A5: Purpose1 | B5: Description of Work | C5: =RAND()*1000000 -> 485939.47 | D5: state | F5: Consult with Program Office before budgeting Construction costs.
A6: Purpose2 | B6: Description of Work | C6: =RAND()*1000000 -> 440192.16 | D6: state | F6: Consult with Program Office before budgeting Construction costs.
C7: 0 | D7: state | F7: Consult with Program Office before budgeting Construction costs.
C8: 0 | D8: state | F8: Consult with Program Office before budgeting Construction costs.
C9: 0 | D9: state | F9: Consult with Program Office before budgeting Construction costs.
C10: 0 | D10: state | F10: Consult with Program Office before budgeting Construction costs.
C11: 0 | D11: state | F11: Consult with Program Office before budgeting Construction costs.
C12: 0 | D12: state | F12: Consult with Program Office before budgeting Construction costs.
C13: 0 | D13: state | F13: Consult with Program Office before budgeting Construction costs.
C14: 0 | D14: state | F14: Consult with Program Office before budgeting Construction costs.
C15: 0 | D15: state | F15: Consult with Program Office before budgeting Construction costs.
C16: 0 | D16: state | F16: Consult with Program Office before budgeting Construction costs.
C17: 0 | D17: state | F17: Consult with Program Office before budgeting Construction costs.
C18: 0 | D18: state | F18: Consult with Program Office before budgeting Construction costs.
... C132: 0 | D132: state | F132: Consult with Program Office before budgeting Construction costs.
A133: Purpose | B133: Description of Work | C133: =RAND()*1000000 -> 499447.4 | D133: state | F133: Consult with Program Office before budgeting Construction costs.
B134: State Total | C134: =ROUND(SUBTOTAL(109,C4:C133),2) -> 2167334 | D134: state | F134: If you need additional rows, there are rows you can unhide
D135: non-state
A136: purpose | B136: description | C136: =RAND()*1000000 -> 480519.96 | D136: non-state
A137: Purpose1 | B137: Description of Work | C137: =RAND()*1000000 -> 408282.69 | D137: non-state | F137: Consult with Program Office before budgeting Construction costs.
A138: Purpose2 | B138: Description of Work | C138: =RAND()*1000000 -> 174255.86 | D138: non-state | F138: Consult with Program Office before budgeting Construction costs.
C139: 0 | D139: non-state | F139: Consult with Program Office before budgeting Construction costs.
C140: 0 | D140: non-state | F140: Consult with Program Office before budgeting Construction costs.
C141: 0 | D141: non-state | F141: Consult with Program Office before budgeting Construction costs.
C142: 0 | D142: non-state | F142: Consult with Program Office before budgeting Construction costs.
C143: 0 | D143: non-state | F143: Consult with Program Office before budgeting Construction costs.
C144: 0 | D144: non-state | F144: Consult with Program Office before budgeting Construction costs.
C145: 0 | D145: non-state | F145: Consult with Program Office before budgeting Construction costs.
C146: 0 | D146: non-state | F146: Consult with Program Office before budgeting Construction costs.
C147: 0 | D147: non-state | F147: Consult with Program Office before budgeting Construction costs.
C148: 0 | D148: non-state | F148: Consult with Program Office before budgeting Construction costs.
C149: 0 | D149: non-state | F149: Consult with Program Office before budgeting Construction costs.
C150: 0 | D150: non-state | F150: Consult with Program Office before budgeting Construction costs.
... C264: 0 | D264: non-state | F264: Consult with Program Office before budgeting Construction costs.
A265: purpose | B265: description | C265: =RAND()*1000000 -> 192606.06 | D265: non-state
B266: NON-State Total | C266: =ROUND(SUBTOTAL(109,C135:C265),2) -> 1255664.6 | D266: non-state | F266: If you need additional rows, there are rows you can unhide
...

Sheet Occupancy 
A1: Section C - Budget Worksheet & Narrative | F1: =+'Section A'!B2 -> 0 | G1: Filter
A2: 9). Occupancy -Rent and Utilities (2 CFR 200.465)-- List items and descriptions by major type and the basis of the computation. Explain how rental and utility expenses are allocated for distribution as an expense to the program/service. For example, provide the square footage and the cost per square foot rent and utility, and provide a monthly rental and utility cost and how many months to rent. NOTE: This budgetary line item is to be used for direct program rent and utilities, all other indirect or administrative occupancy costs should be listed in the indirect expense section of the Budget worksheet and narrative. Maintenance and repair costs may be included here if directly allocated to program. | G2: keep
G3: keep
A4: Description | B4: Quantity | C4: Basis | D4: Cost | E4: Length of time | F4: Occupancy Cost | G4: keep | I4: Length of time=# of units of Basis
F5: =ROUND(+B5*D5*E5,2) -> 0 | G5: state
F6: =ROUND(+B6*D6*E6,2) -> 0 | G6: state
F7: =ROUND(+B7*D7*E7,2) -> 0 | G7: state
F8: =ROUND(+B8*D8*E8,2) -> 0 | G8: state
F9: =ROUND(+B9*D9*E9,2) -> 0 | G9: state
F10: =ROUND(+B10*D10*E10,2) -> 0 | G10: state
F11: =ROUND(+B11*D11*E11,2) -> 0 | G11: state
F12: =ROUND(+B12*D12*E12,2) -> 0 | G12: state
F13: =ROUND(+B13*D13*E13,2) -> 0 | G13: state
F14: =ROUND(+B14*D14*E14,2) -> 0 | G14: state
F15: =ROUND(+B15*D15*E15,2) -> 0 | G15: state
F16: =ROUND(+B16*D16*E16,2) -> 0 | G16: state
... F134: =ROUND(+B134*D134*E134,2) -> 0 | G134: state
E135: State Total | F135: =ROUND(SUBTOTAL(109,F5:F134),2) -> 0 | G135: state | I135: If you need additional rows, there are rows you can unhide
G136: non-state
F137: =ROUND(+B137*D137*E137,2) -> 0 | G137: non-state
F138: =ROUND(+B138*D138*E138,2) -> 0 | G138: non-state
F139: =ROUND(+B139*D139*E139,2) -> 0 | G139: non-state
F140: =ROUND(+B140*D140*E140,2) -> 0 | G140: non-state
F141: =ROUND(+B141*D141*E141,2) -> 0 | G141: non-state
F142: =ROUND(+B142*D142*E142,2) -> 0 | G142: non-state
F143: =ROUND(+B143*D143*E143,2) -> 0 | G143: non-state
F144: =ROUND(+B144*D144*E144,2) -> 0 | G144: non-state
F145: =ROUND(+B145*D145*E145,2) -> 0 | G145: non-state
F146: =ROUND(+B146*D146*E146,2) -> 0 | G146: non-state
F147: =ROUND(+B147*D147*E147,2) -> 0 | G147: non-state
F148: =ROUND(+B148*D148*E148,2) -> 0 | G148: non-state
... F266: =ROUND(+B266*D266*E266,2) -> 0 | G266: non-state
E267: NON-State Total | F267: =ROUND(SUBTOTAL(109,F136:F266),2) -> 0 | G267: non-state | I267: If you need additional rows, there are rows you can unhide
G268: keep
E269: Total Occupancy | F269: =+F267+F135 -> 0 | G269: keep | I269: This rows adds State & Non-State Totals
G270: keep
A271: Occupancy Narrative (State): | G271: state | I271: Give a brief description of items that you are claiming
G272: state | I272: To add information on a new line, hold the Alt key and hit Enter. To change the row height, right click on the row number off to the left of the spreadsheet, then click on Row Height
G273: non-state
A274: Occupancy Narrative (Non-State) i.e. "Match" or "Other Funding" | G274: non-state | I274: Give a brief description of items that you are claiming
...

Sheet R & D 
A1: Section C - Budget Worksheet & Narrative | C1: =+'Section A'!B2 -> 0
A2: 10). Research & Development (R&D) (2 CFR 200.87)-- Definition: All research activities, both basic and applied, and all development activities that are performed by non-Federal entities directed toward the production of useful materials, devices, systems, or methods, including design and development of prototypes and processes. Provide a description of the research and development project and an estimate of the costs. NOTE: Consult with the program office before budgeting funds in this category.
A3: Purpose | B3: Description of Work | C3: Research & Development Cost | D3: Filter
C4: 0 | D4: state
C5: 0 | D5: state
C6: 0 | D6: state
C7: 0 | D7: state
C8: 0 | D8: state
C9: 0 | D9: state
C10: 0 | D10: state
C11: 0 | D11: state
C12: 0 | D12: state
C13: 0 | D13: state
C14: 0 | D14: state
C15: 0 | D15: state
... C133: 0 | D133: state
B134: State Total | C134: =ROUND(SUBTOTAL(109,C4:C133),2) -> 0 | D134: state | F134: If you need additional rows, there are rows you can unhide
D135: non-state
C136: 0 | D136: non-state
C137: 0 | D137: non-state
C138: 0 | D138: non-state
C139: 0 | D139: non-state
C140: 0 | D140: non-state
C141: 0 | D141: non-state
C142: 0 | D142: non-state
C143: 0 | D143: non-state
C144: 0 | D144: non-state
C145: 0 | D145: non-state
C146: 0 | D146: non-state
C147: 0 | D147: non-state
... C265: 0 | D265: non-state
B266: NON-State Total | C266: =ROUND(SUBTOTAL(109,C135:C265),2) -> 0 | D266: non-state | F266: If you need additional rows, there are rows you can unhide
D267: keep
B268: Total R & D | C268: =+C266+C134 -> 0 | D268: keep | F268: This rows adds State & Non-State Totals
D269: keep
A270: R & D Narrative (State): | D270: state | F270: Give a brief description of items that you are claiming
D271: state | F271: To add information on a new line, hold the Alt key and hit Enter. To change the row height, right click on the row number off to the left of the spreadsheet, then click on Row Height
D272: non-state
A273: R & D Narrative (Non-State) i.e. "Match" or "Other Funding" | D273: non-state | F273: Give a brief description of items that you are claiming
D274: non-state | F274: To add information on a new line, hold the Alt key and hit Enter. To change the row height, right click on the row number off to the left of the spreadsheet, then click on Row Height

Sheet Telecommunications 
A1: Section C - Budget Worksheet & Narrative | F1: =+'Section A'!B2 -> 0 | G1: Filter
A2: 11). Telecommunications -- List items and descriptions by major type and the basis of the computation. Explain how telecommunication expenses are allocated for distribution as an expense to the program/service. NOTE: This budgetary line item is to be used for direct program telecommunications, all other indirect or administrative telecommunication costs should be listed in the indirect expense section of the Budget worksheet and narrative. | G2: keep
G3: keep
A4: Description | B4: Quantity | C4: Basis | D4: Cost | E4: Length of time | F4: Telecommunications Cost | G4: keep
F5: =ROUND(+B5*D5*E5,2) -> 0 | G5: state
F6: =ROUND(+B6*D6*E6,2) -> 0 | G6: state
F7: =ROUND(+B7*D7*E7,2) -> 0 | G7: state
F8: =ROUND(+B8*D8*E8,2) -> 0 | G8: state
F9: =ROUND(+B9*D9*E9,2) -> 0 | G9: state
F10: =ROUND(+B10*D10*E10,2) -> 0 | G10: state
F11: =ROUND(+B11*D11*E11,2) -> 0 | G11: state
F12: =ROUND(+B12*D12*E12,2) -> 0 | G12: state
F13: =ROUND(+B13*D13*E13,2) -> 0 | G13: state
F14: =ROUND(+B14*D14*E14,2) -> 0 | G14: state
F15: =ROUND(+B15*D15*E15,2) -> 0 | G15: state
F16: =ROUND(+B16*D16*E16,2) -> 0 | G16: state
... F134: =ROUND(+B134*D134*E134,2) -> 0 | G134: state
E135: State Total | F135: =ROUND(SUBTOTAL(109,F5:F134),2) -> 0 | G135: state | I135: If you need additional rows, there are rows you can unhide
G136: non-state
F137: =ROUND(+B137*D137*E137,2) -> 0 | G137: non-state
F138: =ROUND(+B138*D138*E138,2) -> 0 | G138: non-state
F139: =ROUND(+B139*D139*E139,2) -> 0 | G139: non-state
F140: =ROUND(+B140*D140*E140,2) -> 0 | G140: non-state
F141: =ROUND(+B141*D141*E141,2) -> 0 | G141: non-state
F142: =ROUND(+B142*D142*E142,2) -> 0 | G142: non-state
F143: =ROUND(+B143*D143*E143,2) -> 0 | G143: non-state
F144: =ROUND(+B144*D144*E144,2) -> 0 | G144: non-state
F145: =ROUND(+B145*D145*E145,2) -> 0 | G145: non-state
F146: =ROUND(+B146*D146*E146,2) -> 0 | G146: non-state
F147: =ROUND(+B147*D147*E147,2) -> 0 | G147: non-state
F148: =ROUND(+B148*D148*E148,2) -> 0 | G148: non-state
... F266: =ROUND(+B266*D266*E266,2) -> 0 | G266: non-state
E267: NON-State Total | F267: =ROUND(SUBTOTAL(109,F136:F266),2) -> 0 | G267: non-state | I267: If you need additional rows, there are rows you can unhide
G268: keep
C269: Total Telecommunications | F269: =+F267+F135 -> 0 | G269: keep | I269: This rows adds State & Non-State Totals
G270: keep
A271: Telecommunications Narrative (State): | G271: state | I271: Give a brief description of items that you are claiming
G272: state | I272: To add information on a new line, hold the Alt key and hit Enter. To change the row height, right click on the row number off to the left of the spreadsheet, then click on Row Height
G273: non-state
A274: Telecommunications Narrative (Non-State) i.e. "Match" or "Other Funding" | G274: non-state | I274: Give a brief description of items that you are claiming
...

Sheet Training & Education
A1: Section C - Budget Worksheet & Narrative | F1: =+'Section A'!B2 -> 0 | G1: Filter
A2: 12). Training and Education (2 CFR 200.472) -- Describe the training and education cost associated with employee development. Include rental space for training (if required), training materials, speaker fees, substitute teacher fees, and any other applicable expenses related to the training. When training materials (pamphlets, notebooks, videos, and other various handouts) are ordered for specific training activities, these items should be itemized below. | G2: keep
G3: keep
A4: Description | B4: Quantity | C4: Basis | D4: Cost | E4: Length of time | F4: Training & Education Cost | G4: keep | I4: Length of time=# of units of Basis
F5: =ROUND(+B5*D5*E5,2) -> 0 | G5: state
F6: =ROUND(+B6*D6*E6,2) -> 0 | G6: state
F7: =ROUND(+B7*D7*E7,2) -> 0 | G7: state
F8: =ROUND(+B8*D8*E8,2) -> 0 | G8: state
F9: =ROUND(+B9*D9*E9,2) -> 0 | G9: state
F10: =ROUND(+B10*D10*E10,2) -> 0 | G10: state
F11: =ROUND(+B11*D11*E11,2) -> 0 | G11: state
F12: =ROUND(+B12*D12*E12,2) -> 0 | G12: state
F13: =ROUND(+B13*D13*E13,2) -> 0 | G13: state
F14: =ROUND(+B14*D14*E14,2) -> 0 | G14: state
F15: =ROUND(+B15*D15*E15,2) -> 0 | G15: state
F16: =ROUND(+B16*D16*E16,2) -> 0 | G16: state
... F134: =ROUND(+B134*D134*E134,2) -> 0 | G134: state
E135: State Total | F135: =ROUND(SUBTOTAL(109,F5:F134),2) -> 0 | G135: state | I135: If you need additional rows, there are rows you can unhide
G136: non-state
F137: =ROUND(+B137*D137*E137,2) -> 0 | G137: non-state
F138: =ROUND(+B138*D138*E138,2) -> 0 | G138: non-state
F139: =ROUND(+B139*D139*E139,2) -> 0 | G139: non-state
F140: =ROUND(+B140*D140*E140,2) -> 0 | G140: non-state
F141: =ROUND(+B141*D141*E141,2) -> 0 | G141: non-state
F142: =ROUND(+B142*D142*E142,2) -> 0 | G142: non-state
F143: =ROUND(+B143*D143*E143,2) -> 0 | G143: non-state
F144: =ROUND(+B144*D144*E144,2) -> 0 | G144: non-state
F145: =ROUND(+B145*D145*E145,2) -> 0 | G145: non-state
F146: =ROUND(+B146*D146*E146,2) -> 0 | G146: non-state
F147: =ROUND(+B147*D147*E147,2) -> 0 | G147: non-state
F148: =ROUND(+B148*D148*E148,2) -> 0 | G148: non-state
... F266: =ROUND(+B266*D266*E266,2) -> 0 | G266: non-state
E267: NON-State Total | F267: =ROUND(SUBTOTAL(109,F136:F266),2) -> 0 | G267: non-state | I267: If you need additional rows, there are rows you can unhide
G268: keep
C269: Total Training & Education | F269: =+F267+F135 -> 0 | G269: keep | I269: This rows adds State & Non-State Totals
G270: keep
A271: Training & Education Narrative (State): | G271: state | I271: Give a brief description of items that you are claiming
G272: state | I272: To add information on a new line, hold the Alt key and hit Enter. To change the row height, right click on the row number off to the left of the spreadsheet, then click on Row Height
G273: non-state
A274: Training & Education Narrative (Non-State) i.e. "Match" or "Other Funding" | G274: non-state | I274: Give a brief description of items that you are claiming
...

Sheet Direct Administrative 
A1: Section C - Budget Worksheet & Narrative | G1: =+'Section A'!B2 -> 0 | H1: Filter
A2: 13). Direct Administrative Costs - (2 CFR 200.413 (c) The salaries of administrative and clerical staff should normally be treated as indirect (F&A) costs. Direct charging of these costs may be appropriate only if all of the following conditions are met: (1) Administrative or clerical services are integral to a project or activity; (2) Individuals involved can be specifically identified with the project or activity; (3) Such costs are explicitly included in the budget or have the prior written approval of the State awarding agency; and (4) The costs are not also recovered as indirect costs. | H2: keep
H3: keep
A4: Name | B4: Position | C4: Salary or Wage | D4: Basis (Yr./Mo./Hr.) | E4: % of Time | F4: Length of time | G4: Direct Administrative Cost | H4: keep | J4: Length of time=# of units of Basis
G5: =ROUND(+C5*E5*F5,2) -> 0 | H5: state
G6: =ROUND(+C6*E6*F6,2) -> 0 | H6: state
G7: =ROUND(+C7*E7*F7,2) -> 0 | H7: state
G8: =ROUND(+C8*E8*F8,2) -> 0 | H8: state
G9: =ROUND(+C9*E9*F9,2) -> 0 | H9: state
G10: =ROUND(+C10*E10*F10,2) -> 0 | H10: state
G11: =ROUND(+C11*E11*F11,2) -> 0 | H11: state
G12: =ROUND(+C12*E12*F12,2) -> 0 | H12: state
G13: =ROUND(+C13*E13*F13,2) -> 0 | H13: state
G14: =ROUND(+C14*E14*F14,2) -> 0 | H14: state
G15: =ROUND(+C15*E15*F15,2) -> 0 | H15: state
G16: =ROUND(+C16*E16*F16,2) -> 0 | H16: state
... G134: =ROUND(+C134*E134*F134,2) -> 0 | H134: state
F135: State Total | G135: =ROUND(SUBTOTAL(109,G5:G134),2) -> 0 | H135: state | J135: If you need additional rows, there are rows you can unhide
H136: non-state
G137: =ROUND(+C137*E137*F137,2) -> 0 | H137: non-state
G138: =ROUND(+C138*E138*F138,2) -> 0 | H138: non-state
G139: =ROUND(+C139*E139*F139,2) -> 0 | H139: non-state
G140: =ROUND(+C140*E140*F140,2) -> 0 | H140: non-state
G141: =ROUND(+C141*E141*F141,2) -> 0 | H141: non-state
G142: =ROUND(+C142*E142*F142,2) -> 0 | H142: non-state
G143: =ROUND(+C143*E143*F143,2) -> 0 | H143: non-state
G144: =ROUND(+C144*E144*F144,2) -> 0 | H144: non-state
G145: =ROUND(+C145*E145*F145,2) -> 0 | H145: non-state
G146: =ROUND(+C146*E146*F146,2) -> 0 | H146: non-state
G147: =ROUND(+C147*E147*F147,2) -> 0 | H147: non-state
G148: =ROUND(+C148*E148*F148,2) -> 0 | H148: non-state
... G266: =ROUND(+C266*E266*F266,2) -> 0 | H266: non-state
F267: NON-State Total | G267: =ROUND(SUBTOTAL(109,G136:G266),2) -> 0 | H267: non-state | J267: If you need additional rows, there are rows you can unhide
H268: keep
D269: Total Direct Administrative Costs | G269: =+G267+G135 -> 0 | H269: keep | J269: This rows adds State & Non-State Totals
H270: keep
A271: Direct Administrative Narrative (State): | H271: state | J271: Give a brief description of items that you are claiming
H272: state | J272: To add information on a new line, hold the Alt key and hit Enter. To change the row height, right click on the row number off to the left of the spreadsheet, then click on Row Height
H273: non-state
A274: Direct Administrative Narrative (Non-State) i.e. "Match" or "Other Funding" | H274: non-state | J274: Give a brief description of items that you are claiming
...

Sheet Miscellaneous (other) Costs 
A1: Section C - Budget Worksheet & Narrative | F1: =+'Section A'!B2 -> 0 | G1: Filter
A2: 14). Other or Miscellaneous Costs --This category contains items not included in the previous categories. List items by type of material or nature of expense, break down costs by quantity and cost per unit if applicable, state the necessity of other costs for successful completion of the project and exclude unallowable costs (e.g.. Printing, Memberships & subscriptions, recruiting costs, etc.) | G2: keep
G3: keep
A4: Description | B4: Quantity | C4: Basis | D4: Cost | E4: Length of time | F4: Other or Miscellaneous Cost | G4: keep | I4: Length of time=# of units of Basis
F5: =ROUND(+B5*D5*E5,2) -> 0 | G5: state
F6: =ROUND(+B6*D6*E6,2) -> 0 | G6: state
F7: =ROUND(+B7*D7*E7,2) -> 0 | G7: state
F8: =ROUND(+B8*D8*E8,2) -> 0 | G8: state
F9: =ROUND(+B9*D9*E9,2) -> 0 | G9: state
F10: =ROUND(+B10*D10*E10,2) -> 0 | G10: state
F11: =ROUND(+B11*D11*E11,2) -> 0 | G11: state
F12: =ROUND(+B12*D12*E12,2) -> 0 | G12: state
F13: =ROUND(+B13*D13*E13,2) -> 0 | G13: state
F14: =ROUND(+B14*D14*E14,2) -> 0 | G14: state
F15: =ROUND(+B15*D15*E15,2) -> 0 | G15: state
F16: =ROUND(+B16*D16*E16,2) -> 0 | G16: state
... F134: =ROUND(+B134*D134*E134,2) -> 0 | G134: state
E135: State Total | F135: =ROUND(SUBTOTAL(109,F5:F134),2) -> 0 | G135: state | I135: If you need additional rows, there are rows you can unhide
G136: non-state
F137: =ROUND(+B137*D137*E137,2) -> 0 | G137: non-state
F138: =ROUND(+B138*D138*E138,2) -> 0 | G138: non-state
F139: =ROUND(+B139*D139*E139,2) -> 0 | G139: non-state
F140: =ROUND(+B140*D140*E140,2) -> 0 | G140: non-state
F141: =ROUND(+B141*D141*E141,2) -> 0 | G141: non-state
F142: =ROUND(+B142*D142*E142,2) -> 0 | G142: non-state
F143: =ROUND(+B143*D143*E143,2) -> 0 | G143: non-state
F144: =ROUND(+B144*D144*E144,2) -> 0 | G144: non-state
F145: =ROUND(+B145*D145*E145,2) -> 0 | G145: non-state
F146: =ROUND(+B146*D146*E146,2) -> 0 | G146: non-state
F147: =ROUND(+B147*D147*E147,2) -> 0 | G147: non-state
F148: =ROUND(+B148*D148*E148,2) -> 0 | G148: non-state
... F266: =ROUND(+B266*D266*E266,2) -> 0 | G266: non-state
E267: NON-State Total | F267: =ROUND(SUBTOTAL(109,F136:F266),2) -> 0 | G267: non-state | I267: If you need additional rows, there are rows you can unhide
G268: keep
C269: Total Other Costs | F269: =+F267+F135 -> 0 | G269: keep | I269: This rows adds State & Non-State Totals
G270: keep
A271: Other Costs Narrative (State): | G271: state | I271: Give a brief description of items that you are claiming
G272: state | I272: To add information on a new line, hold the Alt key and hit Enter. To change the row height, right click on the row number off to the left of the spreadsheet, then click on Row Height
G273: non-state
A274: Other Cost Narrative (Non-State) i.e. "Match" or "Other Funding" | G274: non-state | I274: Give a brief description of items that you are claiming
...

Sheet Related Instruction
A1: Section C - Budget Worksheet & Narrative | F1: =+'Section A'!B2 -> 0 | G1: Filter
